BEGIN:VCALENDAR
PRODID:-//eluceo/ical//2.0/EN
VERSION:2.0
CALSCALE:GREGORIAN
BEGIN:VEVENT
UID:cdca94d50e433dba40feeb55c9944e0e
DTSTAMP:20260420T182033Z
SUMMARY:Sommerlicher Wärmeschutz in Holzbauten - das neue Lignatec
DTSTART:20260624T113000Z
DTEND:20260624T143000Z
LOCATION:Sursee\, 6210 Sursee
END:VEVENT
END:VCALENDAR
