BEGIN:VCALENDAR
PRODID:-//eluceo/ical//2.0/EN
VERSION:2.0
CALSCALE:GREGORIAN
BEGIN:VEVENT
UID:b97a4a042e7ac6fed3215d32d6403571
DTSTAMP:20260416T203245Z
SUMMARY:regionale Weiterbildung gMFH für Impulsberatende
DTSTART:20260423T140000Z
DTEND:20260423T170000Z
LOCATION:Hochschule Luzern – Informatik\, Campus Zug-Rotkreuz\, 6343 Risc
 h-Rotkreuz
END:VEVENT
END:VCALENDAR
