BEGIN:VCALENDAR
PRODID:-//eluceo/ical//2.0/EN
VERSION:2.0
CALSCALE:GREGORIAN
BEGIN:VEVENT
UID:feb132736ba0ad1378b034b4b71a1be4
DTSTAMP:20260416T202607Z
SUMMARY:regionale Weiterbildung EFH für Impulsberatende
DTSTART:20260504T140000Z
DTEND:20260504T170000Z
LOCATION:HSLU\, Zentralstrasse 9\, 6003 Luzern
GEO:47.049123;8.309584
X-APPLE-STRUCTURED-LOCATION;VALUE=URI;X-ADDRESS=HSLU\, Zentralstrasse 9\, 6
 003 Luzern;X-APPLE-RADIUS=49;X-TITLE=:geo:47.049123,8.309584
END:VEVENT
END:VCALENDAR
