BEGIN:VCALENDAR
PRODID:-//eluceo/ical//2.0/EN
VERSION:2.0
CALSCALE:GREGORIAN
BEGIN:VEVENT
UID:5f36a2bdf2212402295481d401eb3795
DTSTAMP:20260416T202743Z
SUMMARY: Energievorschriften Modul 3: Deckung des Wärmebedarfs von Neubaut
 en und Heizungsersatz 11/26
DTSTART:20261124T120000Z
DTEND:20261124T160000Z
LOCATION:Luzern\, nähe Bahnhof\, 6002 Luzern
GEO:47.048412;8.311219
X-APPLE-STRUCTURED-LOCATION;VALUE=URI;X-ADDRESS=Luzern\, nähe Bahnhof\, 60
 02 Luzern;X-APPLE-RADIUS=49;X-TITLE=:geo:47.048412,8.311219
END:VEVENT
END:VCALENDAR
