BEGIN:VCALENDAR
PRODID:-//eluceo/ical//2.0/EN
VERSION:2.0
CALSCALE:GREGORIAN
BEGIN:VEVENT
UID:f6f353a651ccf50cb56aa9855ab7f23d
DTSTAMP:20260416T202920Z
SUMMARY: Energievorschriften Modul 4: Gebäudetechnik: Heizung\, Lüftung u
 nd Klimatisierung 11/26
DTSTART:20261125T070000Z
DTEND:20261125T110000Z
LOCATION:Luzern\, nähe Bahnhof\, 6002 Luzern
GEO:47.048412;8.311219
X-APPLE-STRUCTURED-LOCATION;VALUE=URI;X-ADDRESS=Luzern\, nähe Bahnhof\, 60
 02 Luzern;X-APPLE-RADIUS=49;X-TITLE=:geo:47.048412,8.311219
END:VEVENT
END:VCALENDAR
