BEGIN:VCALENDAR
PRODID:-//eluceo/ical//2.0/EN
VERSION:2.0
CALSCALE:GREGORIAN
BEGIN:VEVENT
UID:e0af093c5fb4ee1f283d01202eb20e38
DTSTAMP:20260416T202454Z
SUMMARY:erneuerbar heizen - Grundkurs EFH und kleine MFH bis 6 Wohneinheite
 n 0526
DTSTART:20260505T110000Z
DTEND:20260505T150000Z
LOCATION:Berufsbildungszentrum Bau und Gewerbe\, 6002 Luzern
GEO:47.048412;8.311219
X-APPLE-STRUCTURED-LOCATION;VALUE=URI;X-ADDRESS=Berufsbildungszentrum Bau u
 nd Gewerbe\, 6002 Luzern;X-APPLE-RADIUS=49;X-TITLE=:geo:47.048412,8.311219
END:VEVENT
END:VCALENDAR
