BEGIN:VCALENDAR
PRODID:-//eluceo/ical//2.0/EN
VERSION:2.0
CALSCALE:GREGORIAN
BEGIN:VEVENT
UID:13ad91a1f7a10ac06444d9f7add32920
DTSTAMP:20260416T185929Z
SUMMARY:Regionale Gemeinde-ERFA Zentralschweiz 2026
DTSTART:20260610T110000Z
DTEND:20260610T150000Z
LOCATION:Gemeindehausplatz 26\, 6048 Horw
GEO:47.019637;8.309523
X-APPLE-STRUCTURED-LOCATION;VALUE=URI;X-ADDRESS=Gemeindehausplatz 26\, 6048
  Horw;X-APPLE-RADIUS=49;X-TITLE=:geo:47.019637,8.309523
END:VEVENT
END:VCALENDAR
