Workbook
Name Alternativen1_ref: Berechnungsgrundlagen!$B$39:$B$46
Name Alternativen2_ref: Berechnungsgrundlagen!$B$46:$B$48
Name Anzahl_Jahre: #REF!
Name Bauvorhaben_ref: Berechnungsgrundlagen!$B$34:$B$36
Name Betriebszeit: Berechnungsgrundlagen!$C$18
Name EBF: Berechnung!$J$13
Name Energiepreise_ref: Berechnungsgrundlagen!$B$51:$E$62
Name Faktor: '5.1 Raumbedarf'!$C$5
Name Fernwärme: Berechnung!$H$17
Name Fernwärme_Invest_ref: '3.1-4.1 Investitionskosten'!$B$4:$G$8
Name Förderbeiträge: Berechnungsgrundlagen!$B$83:$C$91
Name Gasheizung_Invest_ref: '3.1-4.1 Investitionskosten'!$B$54:$G$58
Name Gebäudekategorie_ref: Berechnungsgrundlagen!$B$2:$B$14
Name Heizgradtage: Berechnungsgrundlagen!$C$17
Name Heizleistungsbedarf: Berechnung!$J$14
Name Heizwerk: Berechnung!$H$18
Name Investition_ref: Berechnungsgrundlagen!$B$70:$F$81
Name MWST: '2.3 Energiepreise'!$D$12
Name NEB: Berechnung!$J$16
Name NEB_manuell: Berechnung!$L$16
Name Nutzungsgrad_max: Berechnungsgrundlagen!$B$51:$D$62
Name Nutzungsgrad_ref: Berechnungsgrundlagen!$B$51:$C$62
Name Nutzungsgrad_Tabelle: '2.1 Nutzungsgrad'!$B$4:$F$50
Name Oelheizung_Invest_ref: '3.1-4.1 Investitionskosten'!$B$49:$G$53
Name Pellets_Invest_ref: '3.1-4.1 Investitionskosten'!$B$34:$G$38
Name Preis_Fernwärme_ref: Berechnungsgrundlagen!$B$65:$C$66
Name Raumbedarf_ref: Berechnungsgrundlagen!$B$95:$C$106
Name Schnitzel_Invest_ref: '3.1-4.1 Investitionskosten'!$B$39:$G$43
Name Spez_Raumkosten: Berechnungsgrundlagen!$C$108
Name Strompreis_ref: '2.3 Energiepreise'!$B$18:$D$47
Name Stromverbrauch_ref: Berechnungsgrundlagen!$B$2:$C$14
Name Stückholz_Invest_ref: '3.1-4.1 Investitionskosten'!$B$44:$G$48
Name System_1: Berechnung!$D$20
Name System_1b: Berechnung!$F$20
Name System_2: Berechnung!$H$20
Name System_3: Berechnung!$J$20
Name System_4: Berechnung!$L$20
Name Ta: Berechnungsgrundlagen!$C$20
Name Ti: Berechnungsgrundlagen!$C$19
Name Wärmeverteil: Berechnung!#REF!
Name Warmwasserbedarf: Berechnung!$J$15
Name Warmwasserbedarf_ref: Berechnungsgrundlagen!$B$3:$D$14
Name Warmwasserbedarf_ref2: Berechnung!#REF!
Name Wartung_Unterhalt_ref: Berechnungsgrundlagen!$B$50:$F$62
Name WP_Luft_Liste: Berechnungsgrundlagen!$B$40:$B$41
Name WPAbsropt_Invest_ref: '3.1-4.1 Investitionskosten'!$B$59:$G$63
Name WPLuft_Invest_ref: '3.1-4.1 Investitionskosten'!$B$14:$G$18
Name WPLufti_Invest_ref: '3.1-4.1 Investitionskosten'!$B$19:$G$23
Name WPSonde_Invest_ref: '3.1-4.1 Investitionskosten'!$B$24:$G$28
Name WPWasser_Invest_ref: '3.1-4.1 Investitionskosten'!$B$29:$G$33
Name WPZeolyth_Invest_ref: '3.1-4.1 Investitionskosten'!$B$64:$G$68

Sheet Berechnung
B1: Vergleich Gestehungskosten Heizwärme gemäss Art. 19 EnV (RB 40.72.13)
B4: Objekt | F4: Version: | G4: ='Log-Journal'!E2 -> v 1.0 | K4: Formular gültig bis: | L4: ='Log-Journal'!E3 -> 46387
B5: Bezeichnung des Bauvorhabens | O5: Bezeichnung des Bauvorhabens (frei wählbar).
B6: Adresse | O6: "Strasse Nummer PLZ Ort" des Bauvorhabens.
B7: Daten gemäss Eidg. Gebäude- und Wohnungsregister (GWR) | C7: EGID Nummer: | E7: =IF(C6="","",IF(ISERROR(GWR!C3),"Adresse nicht gefunden",GWR!C3)) | H7: Energiebezugsfläche [m²]: | K7: =IF(C6="","",IF($E$7="Adresse nicht gefunden",$E$7,GWR!B9)) | O7: =HYPERLINK("http://map.geo.admin.ch/?ch.bfs.gebaeude_wohnungs_register="&GWR!C3&"_0&lang=de&topic=ech&zoom=10&crosshair=circle", "Karte anschauen") -> #VALUE! | Q7: Falls EGID und Karte nicht angezeigt werden: Adresse ergänzen/ändern.
C8: Wärmeerzeuger 1: | E8: =IF(C6="","",IF($E$7="Adresse nicht gefunden",$E$7,GWR!B11)) | H8: Wärmeerzeuger 2: | K8: =IF(C6="","",IF($E$7="Adresse nicht gefunden",$E$7,GWR!B15)) | O8: =HYPERLINK("https://api.geo.admin.ch/rest/services/ech/MapServer/ch.bfs.gebaeude_wohnungs_register/" & GWR!B3 & "/extendedHtmlPopup?lang=de", "GWR Daten anschauen") -> GWR Daten anschauen | Q8: Die Daten aus dem GWR dienen nur zur Überprüfung und als Richtwert.
A10: 33 | B10: Gebäudedaten
A11: 1.1 | B11: Gebäudekategorie | O11: Gebäudekategorie wählen mit Pulldown-Menü.
A12: 1.2 | B12: Stromverbraucherprofil | J12: =IF(ISERR(VLOOKUP(J11,Stromverbrauch_ref,2,FALSE))," ",IF(ISNA(VLOOKUP(J11,Stromverbrauch_ref,2,FALSE))," ",VLOOKUP(J11,Stromverbrauch_ref,2,FALSE))) | O12: Stromverbraucherprofil gemäss Stromabrechnung (wird automatisch anhand der Gebäudekategorie bestimmt, kann aber überschrieben werden).
A13: 1.3 | B13: Energiebezugsfläche | H13: m² | O13: Energiebezugsfläche: Der Wert aus dem GWR, falls vorhanden, kann als Richtwert dienen (Zelle K7). Achtung bei Gebäuden mit Heizungen, wo mehrere Gebäude an die Heizung angehängt sind.
A14: 1.4 | B14: Heizleistungsbedarf | F14: =(IF(Heizleistungsbedarf=0," ",Heizleistungsbedarf/EBF*1000)) | H14: kW | O14: Heizleistungsbedarf (nach SIA 384/2 oder 384.201 wenn vorhanden).
A15: 1.5 | B15: Warmwasserbedarf nach SIA 380/1 Ausgabe 2016 | H15: kWh/m²a | J15: =IF(ISERROR(VLOOKUP($J$11,Warmwasserbedarf_ref,3,FALSE))," ",(VLOOKUP($J$11,Warmwasserbedarf_ref,3,FALSE)))
A16: 1.6 | B16: Nutzenergiebedarf (Berechnung oder gemäss Nachweis) | H16: kWh/a | J16: =IF(ISERROR(Heizleistungsbedarf*Heizgradtage*Betriebszeit/(Ti-Ta)+EBF*Warmwasserbedarf)," ",Heizleistungsbedarf*Heizgradtage*Betriebszeit/(Ti-Ta)+EBF*Warmwasserbedarf) | O16: Manuelle Eingabe in hellgelbes Feld übersteuert automatische Berechnung (mit separatem Nachweis von Verbrauchszahlen vergangener Jahre zu belegen).
A17: 1.7 | B17: Ist ein Anschluss an Fernwärme möglich? | O17: Möglichkeit eines Fernwärmeanschlusses (Leitung in der Nähe) | T17: https://geo.ur.ch/
A18: 1.8 | B18: Falls Fernwärme möglich, welcher Anbieter? | H18: Heizwerk A | O18: Auswahl von Anbietern
D19: Alternative Systeme | L19: Fossile Heizung
B20: Vergleich Heizungssysteme | D20: =IF(ISERROR(IF(Fernwärme=0," ",IF(Fernwärme="Ja","Fernwärme"," ")))," ",IF(Fernwärme=0," ",IF(Fernwärme="Ja","Fernwärme"," "))) | F20: WP-Luft (a) | H20: WP-Sonde | J20: Holz-Pellets | L20: Oelheizung | O20: Fernwärme wenn möglich: Pflicht, WP-Luft: Pflicht, WP-Sonde (wenn gemäss www.geo.ur.ch möglich): Pflicht.
A21: 2 | B21: Heizungssystem
A22: 2.1 | B22: Nutzungsgrad / JAZ (Standardwert / Nachweis) | C22: - | D22: =IF(ISERROR(VLOOKUP(System_1,Nutzungsgrad_ref,2,FALSE))," ",VLOOKUP(System_1,Nutzungsgrad_ref,2,FALSE)) | F22: =IF(ISERROR(VLOOKUP(System_1b,Nutzungsgrad_ref,2,FALSE))," ",VLOOKUP(System_1b,Nutzungsgrad_ref,2,FALSE)) -> 2.5 | H22: =IF(ISERROR(VLOOKUP(System_2,Nutzungsgrad_ref,2,FALSE))," ",VLOOKUP(System_2,Nutzungsgrad_ref,2,FALSE)) -> 3.5 | J22: =IF(ISERROR(VLOOKUP(System_3,Nutzungsgrad_ref,2,FALSE))," ",VLOOKUP(System_3,Nutzungsgrad_ref,2,FALSE)) -> 0.85 | L22: =IF(ISERROR(VLOOKUP(System_4,Nutzungsgrad_ref,2,FALSE))," ",VLOOKUP(System_4,Nutzungsgrad_ref,2,FALSE)) -> 0.85 | O22: Nutzungsgrad / JAZ kann in hellgelben Feldern übersteuert werden. Falls die manuelle Eingabe den üblichen Maximalwert überschreitet, erscheint er in rot.
A23: 2.2 | B23: Energiebedarf | C23: kWh/a | D23: =IF(ISERROR(IF(NEB_manuell<>"",NEB_manuell,NEB)/D22)," ",(IF(NEB_manuell<>"",NEB_manuell,NEB)/D22)) | F23: =IF(ISERROR(IF(NEB_manuell<>"",NEB_manuell,NEB)/IF(G22<>"",G22,F22))," ",(IF(NEB_manuell<>"",NEB_manuell,NEB)/IF(G22<>"",G22,F22))) | H23: =IF(ISERROR(IF(NEB_manuell<>"",NEB_manuell,NEB)/IF(I22<>"",I22,H22))," ",(IF(NEB_manuell<>"",NEB_manuell,NEB)/IF(I22<>"",I22,H22))) | J23: =IF(ISERROR(IF(NEB_manuell<>"",NEB_manuell,NEB)/IF(K22<>"",K22,J22))," ",(IF(NEB_manuell<>"",NEB_manuell,NEB)/IF(K22<>"",K22,J22))) | L23: =IF(ISERROR(IF(NEB_manuell<>"",NEB_manuell,NEB)/IF(M22<>"",M22,L22))," ",(IF(NEB_manuell<>"",NEB_manuell,NEB)/IF(M22<>"",M22,L22)))
A24: 2.3 | B24: Energiepreis (inkl. MWST und CO2-Abgabe) | C24: Rp/kWh | D24: =IF(ISERROR(IF(Fernwärme="Ja",VLOOKUP(Heizwerk,Preis_Fernwärme_ref,2,FALSE),VLOOKUP(System_1,Energiepreise_ref,4,FALSE))),"",IF(Fernwärme="Ja",VLOOKUP(Heizwerk,Preis_Fernwärme_ref,2,FALSE),VLOOKUP(System_1,Energiepreise_ref,4,FALSE))) | F24: =IF(ISERROR(VLOOKUP(System_1b,Energiepreise_ref,4,FALSE))," ",VLOOKUP(System_1b,Energiepreise_ref,4,FALSE)) | H24: =IF(ISERROR(VLOOKUP(System_2,Energiepreise_ref,4,FALSE))," ",VLOOKUP(System_2,Energiepreise_ref,4,FALSE)) | J24: =IF(ISERROR(VLOOKUP(System_3,Energiepreise_ref,4,FALSE))," ",VLOOKUP(System_3,Energiepreise_ref,4,FALSE)) -> 10.425542 | L24: =IF(ISERROR(VLOOKUP(System_4,Energiepreise_ref,4,FALSE))," ",VLOOKUP(System_4,Energiepreise_ref,4,FALSE)) -> 11.889134
A25: 2.4 | B25: Jahreskosten für Energie | C25: Fr. | D25: =IF(ISERROR(D23*IF(E24<>"",E24,D24)/100)," ",(D23*IF(E24<>"",E24,D24))/100) | F25: =IF(ISERROR(F23*F24)/100," ",(F23*F24)/100) | H25: =IF(ISERROR(H23*H24/100)," ",(H23*H24/100)) | J25: =IF(ISERROR(J23*J24/100)," ",(J23*J24/100)) | L25: =IF(ISERROR(L23*L24/100)," ",(L23*L24/100))
A26: 3 | B26: Investitionskosten (Amortisationszeit 20 Jahre)
A27: 3.1 | B27: Technik und Bauliches (Standardwert / Nachweis) | C27: Tsd. Fr. | D27: =IF(D22=" ","",(VLOOKUP(System_1,Investition_ref,2,FALSE)+VLOOKUP(System_1,Investition_ref,3,FALSE))/1000) | F27: =IF(F22=" ","",(VLOOKUP(System_1b,Investition_ref,2,FALSE)+VLOOKUP(System_1b,Investition_ref,3,FALSE))/1000) -> 32 | H27: =IF(H22=" ","",(VLOOKUP(System_2,Investition_ref,2,FALSE)+VLOOKUP(System_2,Investition_ref,3,FALSE))/1000) -> 30 | J27: =IF(J22=" ","",(VLOOKUP(System_3,Investition_ref,2,FALSE)+VLOOKUP(System_3,Investition_ref,3,FALSE))/1000) -> 37 | L27: =IF(L22=" ","",(VLOOKUP(System_4,Investition_ref,2,FALSE)+VLOOKUP(System_4,Investition_ref,3,FALSE))/1000) -> 37 | O27: Wärmeerzeuger, Warmwassererwärmer, Regelung, Brennstofflager, Oeltank, Abgasanlage, Umwälzpumpen, Gasleitung, Transport, Montage etc. Richtwerte können durch manuelle Eingabe übersteuert werden.
A28: 3.2 | B28: Honorare (Standardwert / Nachweis) | C28: Tsd. Fr. | D28: =IF(D22=" ","",VLOOKUP(System_1,Investition_ref,4,FALSE)/1000) | F28: =IF(F22=" ","",VLOOKUP(System_1b,Investition_ref,4,FALSE)/1000) -> 15 | H28: =IF(H22=" ","",VLOOKUP(System_2,Investition_ref,4,FALSE)/1000) -> 18 | J28: =IF(J22=" ","",VLOOKUP(System_3,Investition_ref,4,FALSE)/1000) -> 17 | L28: =IF(L22=" ","",VLOOKUP(System_4,Investition_ref,4,FALSE)/1000) -> 11 | O28: Elektro, Baumeister etc. Richtwerte können durch manuelle Eingabe in das gelbe Feld übersteuert werden.
A29: 3.3 | B29: Erfüllung Massnahmen EnG Art. 11 Abs. 2 | C29: Tsd. Fr. | D29: =IF(System_1=" "," ","-") | F29: =IF(System_1=" "," ","-") | H29: =IF(System_1=" "," ","-") | J29: =IF(System_1=" "," ","-") | O29: Gemäss EnG Art. 11 Abs. 2 muss beim Wiedereinbau eines fossilen Wärmeerzeugers der fossile Verbrauch durch geeignete Effizienzmassnahmen der Gebäudehülle oder der Haustechnik reduziert werden. Die Massnahmen dazu sind in der EnV Art. 18 Abs. 2 beschrieben
A30: 3.4 | B30: Vorgabe erfüllt mit folgender Massnahme | C30: Freier Text | D30: =IF(System_1=" "," ","-") | F30: =IF(System_1b=""," ","-") -> - | H30: =IF(System_2=""," ","-") -> - | J30: =IF(System_3=""," ","-") -> - | O30: Welche Massnahme wird für die Erfüllung des EnG Art. 11 Abs.2 umgesetzt? Bitte mit einem Stichwort beschreiben.
A31: 3.5 | B31: Voraussichtlicher Förderbeitrag (Kanton) | C31: Fr. | D31: =IF(ISERROR(VLOOKUP(System_1,Förderbeiträge,2,FALSE))," ",VLOOKUP(System_1,Förderbeiträge,2,FALSE)) | F31: =IF(ISERROR(VLOOKUP(System_1b,Förderbeiträge,2,FALSE))," ",VLOOKUP(System_1b,Förderbeiträge,2,FALSE)) -> 3200 | H31: =IF(ISERROR(VLOOKUP(System_2,Förderbeiträge,2,FALSE))," ",VLOOKUP(System_2,Förderbeiträge,2,FALSE)) -> 84800 | J31: =IF(ISERROR(VLOOKUP(System_3,Förderbeiträge,2,FALSE))," ",VLOOKUP(System_3,Förderbeiträge,2,FALSE)) -> 80000 | L31: =IF(System_4=" "," ",0) -> 0 | O31: Förderbeitrag berechnet aus dem kantonalen Fördermodell. Bei der Fernwärme können die Förderbeiträge abweichen (evtl. von Netzbetreiber beansprucht). In diesem Fall Beitrag in hellgelbes Feld eintragen.
A32: 3.6 | B32: Voraussichtlicher Förderbeitrag (Gemeinde) | C32: Fr. | L32: =IF(System_4=" "," ",0) -> 0 | O32: Förderbeitrag von der Gemeinde (meistens mit der Förderung des Kantons kombinierbar).
A33: 3.7 | B33: Voraussichtlicher Förderbeitrag (Weitere) | C33: Fr. | L33: =IF(System_4=" "," ",0) -> 0 | O33: Förderbeitrag von Weiteren (bspw. Energie Zukunft Schweiz AG oder MyClimate). Diese Förderung ist meistens nicht mit der Förderung des Kantons kombinierbar. In diesem Fall bitte Förderung des Kantons im hellgelben Feld auf 0 setzen.
A34: 3.8 | B34: Total Installationskosten (inkl. Förderung) | C34: Fr. | D34: =IF(ISERROR(IF(D22=" "," ",IF(E27="",D27,E27)*1000+IF(E28="",D28,E28)*1000-IF(E31="",SUM(D31:D33),SUM(E31,D32:D33)))),"",IF(D22=" "," ",IF(E27="",D27,E27)*1000+IF(E28="",D28,E28)*1000-IF(E31="",SUM(D31:D33),SUM(E31,D32:D33)))) | F34: =IF(ISERROR(IF(F22=" "," ",IF(G27="",F27,G27)*1000+IF(G28="",F28,G28)*1000-IF(G31="",SUM(F31:F33),SUM(G31,F32:F33)))),"",IF(F22=" "," ",IF(G27="",F27,G27)*1000+IF(G28="",F28,G28)*1000-IF(G31="",SUM(F31:F33),SUM(G31,F32:F33)))) -> 43800 | H34: =IF(ISERROR(IF(H22=" "," ",IF(I27="",H27,I27)*1000+IF(I28="",H28,I28)*1000-IF(I31="",SUM(H31:H33),SUM(I31,H32:H33)))),"",IF(H22=" "," ",IF(I27="",H27,I27)*1000+IF(I28="",H28,I28)*1000-IF(I31="",SUM(H31:H33),SUM(I31,H32:H33)))) -> -36800 | J34: =IF(ISERROR(IF(J22=" "," ",IF(K27="",J27,K27)*1000+IF(K28="",J28,K28)*1000-IF(K31="",SUM(J31:J33),SUM(K31,J32:J33)))),"",IF(J22=" "," ",IF(K27="",J27,K27)*1000+IF(K28="",J28,K28)*1000-IF(K31="",SUM(J31:J33),SUM(K31,J32:J33)))) -> -26000 | L34: =IF(ISERROR(IF(M27="",L27,M27)*1000+IF(M28="",L28,M28)*1000+L29*1000-L31),"",IF(M27="",L27,M27)*1000+IF(M28="",L28,M28)*1000+L29*1000-L31) -> 48000
A35: 4 | B35: Investitionskosten (Amortisationszeit 40 Jahre)
A36: 4.1 | B36: Erdwärmesonde, Elektrozuleitung, Fernwärme | C36: Tsd. Fr. | D36: =IF(D22=" ","",VLOOKUP(System_1,Investition_ref,5,FALSE)/1000) | F36: =IF(F22=" ","",VLOOKUP(System_1b,Investition_ref,5,FALSE)/1000) -> 0 | H36: =IF(H22=" ","",VLOOKUP(System_2,Investition_ref,5,FALSE)/1000) -> 14 | J36: =IF(J22=" ","",VLOOKUP(System_3,Investition_ref,5,FALSE)/1000) -> 0 | L36: =IF(L22=" ","",VLOOKUP(System_4,Investition_ref,5,FALSE)/1000) -> 0 | O36: Elektrozuleitung bei WP-Anlagen prüfen! Richtwerte können durch manuelle Eingabe übersteuert werden. Bei Fernwärme: Anschlussgebühren und Unterstation.
A37: 4.2 | B37: Weitere Baukosten mit Amortisation 40 Jahre | C37: Tsd. Fr. | D37: =IF(System_1=" ","",0) | F37: =IF(System_1b="","",0) -> 0 | H37: =IF(System_2="","",0) -> 0 | J37: =IF(System_3="","",0) -> 0 | L37: =IF(System_4=" ","",0) -> 0 | O37: Investitionskosten, die über 40 Jahre amortisiert werden (im Gegensatz zu Investitionen in Technisches, welche über 20 Jahre amortisiert werden), Beispiel: Sockel.
A38: 5 | B38: Raumkosten (Amortisationszeit 40 Jahre)
A39: 5.1 | B39: Raumbedarf (Standardwert / Nachweis) | C39: m³ | D39: =IF(ISERROR(VLOOKUP(System_1,Raumbedarf_ref,2,FALSE)),"",ROUND(VLOOKUP(System_1,Raumbedarf_ref,2,FALSE),0)) | F39: =IF(ISERROR(VLOOKUP(System_1b,Raumbedarf_ref,2,FALSE)),"",ROUND(VLOOKUP(System_1b,Raumbedarf_ref,2,FALSE),0)) | H39: =IF(ISERROR(VLOOKUP(System_2,Raumbedarf_ref,2,FALSE)),"",ROUND(VLOOKUP(System_2,Raumbedarf_ref,2,FALSE),0)) | J39: =IF(ISERROR(VLOOKUP(System_3,Raumbedarf_ref,2,FALSE)),"",ROUND(VLOOKUP(System_3,Raumbedarf_ref,2,FALSE),0)) | L39: =IF(ISERROR(VLOOKUP(System_4,Raumbedarf_ref,2,FALSE)),"",ROUND(VLOOKUP(System_4,Raumbedarf_ref,2,FALSE),0)) | O39: Manuelle Eingabe mit separatem Nachweis belegen, ohne Eingabe wird mit Standard-Wert gerechnet.
A40: 5.2 | B40: Spezifische Raumkosten | C40: Fr./m³ | D40: =IF(D27=""," ",Spez_Raumkosten) | F40: =IF(F27=""," ",Spez_Raumkosten) -> 300 | H40: =IF(H27=""," ",Spez_Raumkosten) -> 300 | J40: =IF(J27=""," ",Spez_Raumkosten) -> 300 | L40: =IF(L27=""," ",Spez_Raumkosten) -> 300
A41: 5.3 | B41: Total Raumkosten | C41: Fr. | D41: =IF(ISERROR(IF(E39<>"",E39*D40,D39*D40))," ",IF(E39<>"",E39*D40,D39*D40)) | F41: =IF(ISERROR(IF(G39<>"",G39*F40,F39*F40))," ",IF(G39<>"",G39*F40,F39*F40)) | H41: =IF(ISERROR(IF(I39<>"",I39*H40,H39*H40))," ",IF(I39<>"",I39*H40,H39*H40)) | J41: =IF(ISERROR(IF(K39<>"",K39*J40,J39*J40))," ",IF(K39<>"",K39*J40,J39*J40)) | L41: =IF(ISERROR(IF(M39<>"",M39*L40,L39*L40))," ",IF(M39<>"",M39*L40,L39*L40))
A42: 6 | B42: Jährliche Wartung und Unterhalt
A43: 6.1 | B43: Kosten (Standardwert / Nachweis) | C43: Fr. | D43: =IF(ISERROR((SUM(D32:E34)+IF(E31=" ",D31,E31))/100*VLOOKUP(System_1,Wartung_Unterhalt_ref,5,FALSE))," ",(SUM(D32:E34)+IF(E31=" ",D31,E31))/100*VLOOKUP(System_1,Wartung_Unterhalt_ref,5,FALSE)) | F43: =IF(ISERROR((SUM(F32:G34)+IF(G31=" ",F31,G31))/100*VLOOKUP(System_1b,Wartung_Unterhalt_ref,5,FALSE))," ",(SUM(F32:G34)+IF(G31=" ",F31,G31))/100*VLOOKUP(System_1b,Wartung_Unterhalt_ref,5,FALSE)) -> 438 | H43: =IF(ISERROR((SUM(H32:I34)+IF(I31=" ",H31,I31))/100*VLOOKUP(System_2,Wartung_Unterhalt_ref,5,FALSE))," ",(SUM(H32:I34)+IF(I31=" ",H31,I31))/100*VLOOKUP(System_2,Wartung_Unterhalt_ref,5,FALSE)) -> -368 | J43: =IF(ISERROR((SUM(J32:K34)+IF(K31=" ",J31,K31))/100*VLOOKUP(System_3,Wartung_Unterhalt_ref,5,FALSE))," ",(SUM(J32:K34)+IF(K31=" ",J31,K31))/100*VLOOKUP(System_3,Wartung_Unterhalt_ref,5,FALSE)) -> -780 | L43: =IF(ISERROR((SUM(L31:M34)-L29*1000)/100*VLOOKUP(L20,Wartung_Unterhalt_ref,5,FALSE))," ",(SUM(L31:M34)-L29*1000)/100*VLOOKUP(L20,Wartung_Unterhalt_ref,5,FALSE)) -> 960 | O43: Manuelle Eingabe mit separatem Nachweis belegen, ohne Eingabe wird mit Standard-Wert gerechnet.
...

Sheet Bild_Heizkosten
A1: Heizkosten | B1: Sys1 | C1: Sys2 | D1: Sys3 | E1: Sys4 | F1: Sys5
A2: Heizsystem | B2: =System_1 | C2: =IF(System_1b<>0,System_1b,"") -> WP-Luft (a) | D2: =IF(System_2<>0,System_2,"") -> WP-Sonde | E2: =System_3 -> Holz-Pellets | F2: =IF(System_4<>0,System_4,"") -> Oelheizung
A3: Energiekosten | B3: =Berechnung!D50 | C3: =Berechnung!F50 | D3: =Berechnung!H50 | E3: =Berechnung!J50 | F3: =Berechnung!L50
A4: Wartung und Unterhalt | B4: =Berechnung!D51 | C4: =Berechnung!F51 -> 438 | D4: =Berechnung!H51 -> -368 | E4: =Berechnung!J51 -> -780 | F4: =Berechnung!L51 -> 960
A5: Kapitalkosten | B5: =Berechnung!D52 | C5: =Berechnung!F52 -> 2488.7331 | D5: =Berechnung!H52 -> -1644.0905 | E5: =Berechnung!J52 -> -1477.3301 | F5: =Berechnung!L52 -> 2727.3787
A6: Total | B6: =IF(SUM(B3:B5)<>0,SUM(B3:B5),"") | C6: =IF(SUM(C3:C5)<>0,SUM(C3:C5),"") -> 2926.7331 | D6: =IF(SUM(D3:D5)<>0,SUM(D3:D5),"") -> -2012.0905 | E6: =IF(SUM(E3:E5)<>0,SUM(E3:E5),"") -> -2257.3301 | F6: =IF(System_4<>0,SUM(F3:F5),"") -> 3687.3787
E7: =IF(Berechnung!#REF!=1,Berechnung!J53,Berechnung!L53) -> #REF!
A8: 110% - Wert | B8: =1.1*$F$6 -> 4056.1166 | C8: =B8 -> 4056.1166 | D8: =C8 -> 4056.1166 | E8: =D8 -> 4056.1166 | F8: =E8 -> 4056.1166

Sheet GWR
A1: Webseite GWR | B1: =IF(Berechnung!C6="","",_xlfn.WEBSERVICE(CONCATENATE("https://api3.geo.admin.ch/rest/services/api/SearchServer?searchText=" & Berechnung!C6 & "&origins=address&type=locations")))
A2: Resultat | B2: =IF($B1="","",IF(ISNUMBER(SEARCH("[]",$B1)),"Adresse nicht eindeutig","Gebäude gefunden"))
A3: EGID_EDID | B3: =IF($B1="","",IF(ISNUMBER(SEARCH("[]",$B1))," ",MID($B1,SEARCH("featureId",$B1)+12,SEARCH(",""geom_quadindex"":",$B1)-SEARCH("featureId",$B1)-13))) | C3: =VALUE(MID(B3,1,FIND("_",B3,1)-1)) -> #VALUE! | D3: =VALUE(MID(B3,FIND("_",B3,1)+1,3)) -> #VALUE!
A5: Gebäudeinformationen | B5: =IF(ISERROR(C3),"",CONCATENATE(_xlfn.WEBSERVICE("https://api3.geo.admin.ch/rest/services/api/MapServer/find?layer=ch.bfs.gebaeude_wohnungs_register&searchText="&C3&"&searchField=egid&returnGeometry=false&contains=false")))
A6: Gebäudeinformationen bereinigt | B6: =SUBSTITUTE(B5,"""","")
B8: Übersetzung | C8: Resultat Text | D8: Resultat (code) | E8: Variabel
A9: EBF | B9: =C9 -> #VALUE! | C9: =D9 -> #VALUE! | D9: =MID(B6,SEARCH("gebf:",B6)+6,SEARCH(", gwaerzh1",B6)-SEARCH("gebf:",B6)-6) -> #VALUE! | E9: GEBF
A10: Wärmeerzeuger Heizung 1 | B10: =C10 -> #VALUE! | C10: =IF(D10="null","keine Angaben",VLOOKUP(_xlfn.NUMBERVALUE(D10),Table24[],2,FALSE)) -> #VALUE! | D10: =MID(B6,SEARCH("gwaerzh1: ",B6)+10,SEARCH(", genh1",B6)-SEARCH("gwaerzh1: ",B6)-10) -> #VALUE! | E10: GWAERZH1
A11: Energie-/Wärmequelle 1 | B11: =IF(C11="keine Angaben",C11,VLOOKUP(C11,Table2[[Quelle]:[Heizsystem (Übersetzung)]],2,FALSE)) -> #VALUE! | C11: =IF(D11="null","keine Angaben",VLOOKUP(_xlfn.NUMBERVALUE(D11),Table2[],2,FALSE)) -> #VALUE! | D11: =MID(B6,SEARCH("genh1: ",B6)+7,SEARCH(", gwaersceh1",B6)-SEARCH("genh1: ",B6)-7) -> #VALUE! | E11: GENH1
A12: Wärmeerzeuger Warmwasser 1 | B12: =C12 -> #VALUE! | C12: =IF(D12="null","keine Angaben",VLOOKUP(_xlfn.NUMBERVALUE(D12),Table242[],2,FALSE)) -> #VALUE! | D12: =MID(B6,SEARCH("gwaerzw1: ",B6)+10,SEARCH(", genw1",B6)-SEARCH("gwaerzw1: ",B6)-10) -> #VALUE! | E12: GWAERZW1
A13: Energie-/Wärmequelle Warmwasser 1 | B13: =IF(C13="keine Angaben",C13,VLOOKUP(C13,Table2[[Quelle]:[Heizsystem (Übersetzung)]],2,FALSE)) -> #VALUE! | C13: =IF(D13="null","keine Angaben",VLOOKUP(_xlfn.NUMBERVALUE(D13),Table2[],2,FALSE)) -> #VALUE! | D13: =MID(B6,SEARCH("genw1: ",B6)+7,SEARCH(", gwaerscew1",B6)-SEARCH("genw1: ",B6)-7) -> #VALUE! | E13: GENW1
A14: Wärmeerzeuger Heizung 2 | B14: =C14 -> #VALUE! | C14: =IF(D14="null","keine Angaben",VLOOKUP(_xlfn.NUMBERVALUE(D14),Table24[],2,FALSE)) -> #VALUE! | D14: =MID(B6,SEARCH("gwaerzh2: ",B6)+10,SEARCH(", genh2",B6)-SEARCH("gwaerzh2: ",B6)-10) -> #VALUE! | E14: GWAERZH2
A15: Energie-/Wärmequelle 2 | B15: =IF(C15="keine Angaben",C15,VLOOKUP(C15,Table2[[Quelle]:[Heizsystem (Übersetzung)]],2,FALSE)) -> #VALUE! | C15: =IF(D15="null","keine Angaben",VLOOKUP(_xlfn.NUMBERVALUE(D15),Table2[],2,FALSE)) -> #VALUE! | D15: =MID(B6,SEARCH("genh2: ",B6)+7,SEARCH(", gwaersceh2",B6)-SEARCH("genh2: ",B6)-7) -> #VALUE! | E15: GENH2
A16: Wärmeerzeuger Warmwasser 2 | B16: =C16 -> #VALUE! | C16: =IF(D16="null","keine Angaben",VLOOKUP(_xlfn.NUMBERVALUE(D16),Table242[],2,FALSE)) -> #VALUE! | D16: =MID(B6,SEARCH("gwaerzw2: ",B6)+10,SEARCH(", genw2",B6)-SEARCH("gwaerzw2: ",B6)-10) -> #VALUE! | E16: GWAERZW2
A17: Wärmeerzeuger Warmwasser 2 | B17: =IF(C17="keine Angaben",C17,VLOOKUP(C17,Table2[[Quelle]:[Heizsystem (Übersetzung)]],2,FALSE)) -> #VALUE! | C17: =IF(D17="null","keine Angaben",VLOOKUP(_xlfn.NUMBERVALUE(D17),Table2[],2,FALSE)) -> #VALUE! | D17: =MID(B6,SEARCH("genw2: ",B6)+7,SEARCH(", gwaerscew2",B6)-SEARCH("genw2: ",B6)-7) -> #VALUE! | E17: GENW2
A19: Bemerkung: Die Ergebnisse in der oberen Tabelle sind nur Richtwerte. Die Übersetzung der Energie-/Wärmequellen kann unten nachgelesen werden.
A21: Wärmeerzeuger Heizung | D21: Energie-/Wärmequelle Heizung/Warmwasser
A22: Code | B22: Wärmeerzeuger | D22: Code | E22: Quelle | F22: Heizsystem (Übersetzung)
A23: 7400 | B23: Kein Wärmeerzeuger | D23: 7500 | E23: Keine | F23: Keine
A24: 7410 | B24: Wärmepumpe für ein Gebäude | D24: 7501 | E24: Luft | F24: Luft-Wasser Wärmepumpe
A25: 7411 | B25: Wärmepumpe für mehrere Gebäude | D25: 7510 | E25: Erdwärme (generisch) | F25: Sole-Wasser Wärmepumpe
A26: 7420 | B26: Thermische Solaranlage für ein Gebäude | D26: 7511 | E26: Erdwärmesonde | F26: Sole-Wasser Wärmepumpe
A27: 7421 | B27: Thermische Solaranlage für mehrere Gebäude | D27: 7512 | E27: Erdregister | F27: Sole-Wasser Wärmepumpe
A28: 7430 | B28: Heizkessel (generisch) für ein Gebäude | D28: 7513 | E28: Wasser (Grundwasser, Oberflächenwasser, Abwasser) | F28: Luft-Luft Wärmepumpe
A29: 7431 | B29: Heizkessel (generisch) für mehrere Gebäude | D29: 7520 | E29: Gas | F29: Gasheizung
A30: 7432 | B30: Heizkessel nicht kondensierend für ein Gebäude | D30: 7530 | E30: Heizöl | F30: Ölheizung
A31: 7433 | B31: Heizkessel nicht kondensierend für mehrere Gebäude | D31: 7540 | E31: Holz (generisch) | F31: Holzheizung
A32: 7434 | B32: Heizkessel kondensierend für ein Gebäude | D32: 7541 | E32: Holz (Stückholz) | F32: Stückholzheizung
A33: 7435 | B33: Heizkessel kondensierend für mehrere Gebäude | D33: 7542 | E33: Holz (Pellets) | F33: Pelletsheizung
A34: 7436 | B34: Ofen | D34: 7543 | E34: Holz (Schnitzel) | F34: Schnitzelheizung
... A42: 7499 | B42: Andere | D42: 7599 | E42: Andere | F42: Andere
A44: Wärmeerzeuger Warmwasser
A45: Code | B45: Wärmeerzeuger
A46: 7600 | B46: Kein Wärmeerzeuger
A47: 7610 | B47: Wärmepumpe
A48: 7620 | B48: Thermische Solaranlage
A49: 7630 | B49: Heizkessel (generisch)
A50: 7632 | B50: Heizkessel nicht kondensierend
A51: 7634 | B51: Heizkessel kondensierend
A52: 7640 | B52: Wärmekraftkopplungsanlage
...

Sheet Berechnungsgrundlagen
A1: 1.1/1.5 | B1: 1.1 Gebäudekategorien | C1: 1.2 Stromverbrauchsprofil | D1: 1.5 Warmwasserbedarf nach SIA380/1 [kWh/m2a]
B3: 01 Wohnen MFH | C3: H7 | D3: 21
B4: 02 Wohnen EFH | C4: H6 | D4: 14
B5: 03 Verwaltung | C5: C3 | D5: 7
B6: 04 Schulen | C6: C3 | D6: 7
B7: 05 Verkauf | C7: C3 | D7: 7
B8: 06 Restaurants | C8: C3 | D8: 56
B9: 07 Versammlungslokale | C9: C3 | D9: 14
B10: 08 Spitäler | C10: C3 | D10: 28
B11: 09 Industrie | C11: C3 | D11: 7
B12: 10 Lager | C12: C3 | D12: 1
B13: 11 Sportbauten | C13: C3 | D13: 83
B14: 12 Hallenbäder | C14: C3 | D14: 83
A16: 1.6 | B16: Nutzenergiebedarf
B17: Heizgradtage Uri Altdorf (Klimastation SMA, MeteoSchweiz) | C17: 2951 | D17: HGT
B18: Betriebszeit | C18: 18 | D18: h/d
B19: Ti | C19: 20 | D19: °C
B20: Ta | C20: -6 | D20: °C
A22: 1.7 | B22: Anschluss an Fernwärme
B24: Ja
B25: Nein
A27: 1.8 | B27: Fernwärme Anbieter
B28: Heizwerk A
B29: Heizwerk B
B30: Heizwerk C
A33: 1.8 | B33: Art de Bauvorhabens
B35: Neubau
B36: Umbau
A38: 2 | B38: Heizungssysteme
B40: WP-Luft (a)
B41: WP-Luft (i)
B42: WP-Sonde
B43: WP-Wasser
B44: Holz-Pellets
B45: Holz-Schnitzel
B46: Stückholzheizung
B47: Oelheizung
B48: Gasheizung
A50: 2.1/2.3/6.1 | B50: 2. Heizungssysteme | C50: 2.1 Nutzungsgrad / JAZ | D50: 2.1 Nutzungsgrad / JAZ Maximal | E50: 2.3 Energiepreise [Rp/kWh] | F50: 6.1 Wartung und Unterhalt [%]
B51: Fernwärme | C51: =VLOOKUP(B51,Nutzungsgrad_Tabelle,4,FALSE) -> 1 | D51: =VLOOKUP(B51,Nutzungsgrad_Tabelle,5,FALSE) -> 1 | E51: FEHLER | F51: 1
...

Sheet Quellen
A1: Nr. | B1: Name | C1: Quelle
A2: 1.6 | B2: Heizgradtage Zürich Fluntern (Klimastation SMA, MeteoSchweiz) | C2: Merkblatt SIA 2028: 2010, Korrigenda 2015
A3: 2.1 | B3: Nutzungsgrad / JAZ | C3: gemäss Formular EN-101b EnDK (Version 2.0) und Studie FAWA – Feldanalyse von Wärmepumpen-Anlagen
A4: 2.3 | B4: Energiepreise (Strom) | C4: https://www.strompreis.elcom.admin.ch/
A5: 2.3 | B5: Energiepreise (Heizöl, Gas, Holz-Pellets) | C5: https://www.bfs.admin.ch/bfs/de/home/statistiken/preise/landesindex-konsumentenpreise/detailresultate.assetdetail.13407088.html
A6: 2.3 | B6: Energiepreise (Holz-Schnitzel) | C6: Holzenergie Schweiz, Erfahrungswerte, Kontakt: Andreas Keel (keel@holzenergie.ch) und Schnitzelindex
A7: 3./4./5. | B7: Amortisationszeit (paritätische Lebensdauertabelle) | C7: https://intern.mieterverband.ch/ldt/objekte.php?Gid=1 (MV) oder https://ldt.innov8.ch/objekte.php?HEV=1&Gid=1 (HEV)
A8: 3.1 | B8: Investitionskosten Technik | C8: Studie Externer Auftrag
A9: 3.2 | B9: investitionskosten Bauseitige Arbeiten | C9: Studie Externer Auftrag
A10: 3.5 | B10: Voraussichtlicher Förderbeitrag (Kanton) | C10: https://www.zh.ch/de/umwelt-tiere/energie/energiefoerderung.html
A11: 4.1 | B11: Investitionskosten Erdwärmesonde, Elektrozuleitung | C11: Studie Externer Auftrag
A12: 7.1 | B12: Kalkulationszinsatz | C12: https://www.bwo.admin.ch/bwo/de/home/mietrecht/referenzzinssatz/entwicklung-referenzzinssatz-und-durchschnittszinssatz.html

Sheet 2.1 Nutzungsgrad
A1: 2.1 | B1: Nutzungsgrad / Jahresarbeitszahl (gemäss Formular EN101b EnDK) und FAWA Studie
B3: Wärmeerzeugung | C3: Kurztext | D3: Text | E3: Standard | F3: Maximal
B4: Oelheizung | C4: Ölfeuerung | D4: Ölfeuerung | E4: 0.85 | F4: 0.92 | G4: Quelle Formular EN101b EnDK
C5: Ölheizung kondensierend | D5: Ölfeuerung kondensierend nur Heizung | E5: 0.91 | F5: 1
C6: Ölfeuerung kondens. Warmwasser | D6: Ölfeuerung kondensierend nur Warmwasser | E6: 0.88 | F6: 0.95
B7: Gasheizung | C7: Gasfeuerung | D7: Gasfeuerung | E7: 0.85 | F7: 0.95 | G7: Quelle Formular EN101b EnDK
C8: Gasheizung kondensierend | D8: Gasfeuerung kondensierend nur Heizung | E8: 0.95 | F8: 1
C9: Gas kondensierend Warmwasser | D9: Gasfeuerung kondensierend nur Warmwasser | E9: 0.92 | F9: 0.95
C10: Gas - Wassererwärmer | D10: Gas - Wassererwärmer | E10: 0.7 | F10: 0.9
B11: Holz-Schnitzel | C11: Holzfeuerung | D11: Holzfeuerung | E11: 0.75 | F11: 0.9 | G11: Quelle Formular EN101b EnDK
B12: Holz-Pellets | C12: Pelletfeuerung | D12: Pelletfeuerung | E12: 0.85 | F12: 0.9 | G12: Quelle Formular EN101b EnDK
C13: Fernwärme (<=50% nicht erneuerbar) | D13: Fernwärme (inkl. Abwärme aus KVA,ARA), <=50% nicht erneuerbar | E13: 1 | F13: 1
C14: Elektrospeicher-Zentralheizung | D14: Elektrospeicher-Zentralheizung | E14: 0.93 | F14: 0.95
C15: Elektro direkt | D15: Elektro direkt | E15: 1 | F15: 1
C16: Elektro-Wassererwärmer | D16: Elektro-Wassererwärmer | E16: 0.9 | F16: 0.95
C17: WKK - thermischer+elektr. Anteil | D17: WKK (fossil) - thermischer + elektrischer Anteil | E17: 0.8 | F17: 0.9
C18: WKK Holz - therm.+elektr. Anteil | D18: WKK (Holz) - thermischer + elektrischer Anteil | E18: 0.7 | F18: 0.9
B19: Stückholzheizung | C19: Stückholzfeuerung | D19: Stückholzfeuerung | E19: 0.75 | F19: 0.9 | G19: Quelle Formular EN101b EnDK
B20: WP-Luft (a) | C20: Luft-Wärmepumpe, Heizung | D20: Wärmepumpe Aussenluft, nur Heizung | E20: 2.5 | F20: 6 | G20: Quelle FAWA Studie
B21: WP-Luft (i) | C21: Luft-Wärmepumpe, Heizung | D21: Wärmepumpe Aussenluft, nur Heizung | E21: 2.5 | F21: 6 | G21: Quelle FAWA Studie
C22: Luft-Wärmepumpe, Warmwasser | D22: Wärmepumpe, Aussenluft, nur Warmwasser | E22: 2.3 | F22: 5
B23: WP-Sonde | C23: Erdsonden-WP, Heizung | D23: Wärmepumpe, Erdwärmesonde, nur Heizung | E23: 3.5 | F23: 10 | G23: Quelle FAWA Studie
C24: Erdsonden-WP, Warmwasser | D24: Wärmepumpe, Erdwärmesonde, nur Warmwasser | E24: 2.7 | F24: 7
C25: Abwasser-WP (direkt), Heizung | D25: Wärmepumpe, Abwasser, nur Heizung | E25: 2.7 | F25: 10
C26: Abwasser-WP direkt, Warmwasser | D26: Wärmepumpe, Abwasser, nur Warmwasser | E26: 2.8 | F26: 7
B27: WP-Wasser | C27: Wasser-Wärmepumpe, Heizung | D27: Wasser-Wärmepumpe, nur Heizung | E27: 3.5 | F27: 10 | G27: Annäherung: Wie Erdwärme Sonde
C28: Wasser-WP, Warmwasser | D28: Wasser-Wärmepumpe, nur Warmwasser | E28: 2.8 | F28: 7
C29: Grundwasser-WP direkt, Heizung | D29: Wärmepumpe, Grundwasser, direkt, nur Heizung | E29: 3.2 | F29: 10
C30: Grundwasser-WP dir. Warmwasser | D30: Wärmepumpe, Grundwasser, direkt, nur Warmwasser | E30: 2.9 | F30: 7
C31: Grundwasser-WP, indir, Heizung | D31: Wärmepumpe, Grundwasser, indirekt, nur Heizung | E31: 2.7 | F31: 8
C32: Grundwasser-WP, indir, Warmw. | D32: Wärmepumpe, Grundwasser, indirekt, nur Warmwaser | E32: 2.7 | F32: 6
C33: Erdregister-WP, Heizung | D33: Wärmepumpe Erdregister, nur Heizung | E33: 2.9 | F33: 8
C34: Erdregister-WP, Warmwasser | D34: Wärmepumpe Erdregister, nur Warmwasser | E34: 2.7 | F34: 6
C35: Solarenergie thermisch, Heizung | D35: Solarenergie thermisch, nur Heizung | E35: 1 | F35: 1
C36: Solarenergie therm. Warmwasser | D36: Solarenergie thermisch, nur Warmwasser | E36: 1 | F36: 1
C37: Solarenergie Heizung + WW | D37: Solarenergie thermisch, Heizung + WW | E37: 1 | F37: 1
C38: Warmhaltebänder | D38: Warmhaltebänder | E38: 1 | F38: 1
C39: Abwärme aus Klimakälte | D39: Abwärme aus Klimakälte | E39: 10 | F39: 10
... C49: Fernwärme (<=75% nicht erneuerbar) | D49: Fernwärme (inkl. Abwärme aus KVA,ARA), <=75% nicht erneuerbar | E49: 1 | F49: 1
B50: Fernwärme | C50: Fernwärme (<=25% nicht erneuerbar) | D50: Fernwärme (inkl. Abwärme aus KVA,ARA), <=25% nicht erneuerbar | E50: 1 | F50: 1 | G50: Formular EN101b EnDK
...

Sheet 2.3 Energiepreise
A1: 2.3 | C1: Energiepreise
C3: Felder zum Auffüllen, sobald Daten verfügbar
G5: 2028 | H5: 2027 | I5: 2026 | J5: 2025 | K5: 2024 | L5: 2023 | M5: 2022 | N5: 2021 | O5: 2020 | P5: 2019 | Q5: 2018 | R5: 2017 | S5: 2016 | T5: 2015 | U5: 2014 | V5: 2013 | W5: 2012 | X5: 2011 | Y5: 2010 | Z5: 2009 | AA5: 2008 | AB5: 2007 | AC5: 2006 | AD5: 2005 | AE5: 2004 | AF5: 2003 | AG5: 2002 | AH5: 2001 | AI5: 2000 | AJ5: 1999 | AK5: 1998 | AL5: 1997 | AM5: 1996 | AN5: 1995 | AO5: 1994 | AP5: 1993 | AQ5: 1992 | AR5: 1991 | AS5: 1990
D6: Aktueller Wert
C7: Max. CO2-Abgabe laut Gesetz [Fr./t CO2]1) | D7: =(INDEX(F7:X7,MATCH(TRUE,INDEX(ISNUMBER(F7:X7),0),0))) -> 120 | I7: 120 | J7: 120 | K7: 120 | L7: 120 | M7: 120 | N7: 120 | O7: 120 | P7: 120 | Q7: 120 | R7: 120
C8: CO2-Abgabe [Fr./t CO2]2) | D8: =(INDEX(F8:X8,MATCH(TRUE,INDEX(ISNUMBER(F8:X8),0),0))) -> 120 | I8: 120 | J8: 120 | K8: 120 | L8: 120 | M8: 120 | N8: 96 | O8: 96 | P8: 96 | Q8: 96 | R8: 84 | S8: 84 | T8: 60 | U8: 60 | V8: 36 | W8: 36 | X8: 36 | Y8: 36 | Z8: 12 | AA8: 12 | AB8: 0 | AC8: 0 | AD8: 0 | AE8: 0 | AF8: 0 | AG8: 0 | AH8: 0 | AI8: 0 | AJ8: 0 | AK8: 0 | AL8: 0 | AM8: 0 | AN8: 0 | AO8: 0 | AP8: 0 | AQ8: 0 | AR8: 0 | AS8: 0
C9: Durchschnitt der max. und eigentlichen CO2-Abgabe [Fr./t CO2] | D9: =(INDEX(F9:X9,MATCH(TRUE,INDEX(ISNUMBER(F9:X9),0),0))) -> 120 | G9: =IF(OR(G7=0,G8=0),"",AVERAGE(G7,G8)) | J9: =IF(OR(J7=0,J8=0),"",AVERAGE(J7,J8)) -> 120 | K9: =IF(OR(K7=0,K8=0),"",AVERAGE(K7,K8)) -> 120 | L9: =IF(OR(L7=0,L8=0),"",AVERAGE(L7,L8)) -> 120 | M9: =IF(OR(M7=0,M8=0),"",AVERAGE(M7,M8)) -> 120 | N9: =IF(OR(N7=0,N8=0),"",AVERAGE(N7,N8)) -> 108 | O9: =AVERAGE(O7:O8) -> 108 | P9: =AVERAGE(P7:P8) -> 108 | Q9: =AVERAGE(Q7:Q8) -> 108 | R9: =AVERAGE(R7:R8) -> 102
C10: CO2-Abgabe [Fr./l Heizöl]3) | G10: =IF(G9="","",G9/1000*2.9) | J10: =IF(J9="","",J9/1000*2.9) -> 0.348 | K10: =IF(K9="","",K9/1000*2.9) -> 0.348 | L10: =IF(L9="","",L9/1000*2.9) -> 0.348 | M10: =IF(M9="","",M9/1000*2.9) -> 0.348 | N10: =IF(N9="","",N9/1000*2.9) -> 0.3132 | O10: =O8/1000*2.9 -> 0.2784 | P10: =P8/1000*2.9 -> 0.2784 | Q10: =Q8/1000*2.9 -> 0.2784 | R10: =R8/1000*2.9 -> 0.2436 | S10: =S8/1000*2.9 -> 0.2436 | T10: =T8/1000*2.9 -> 0.174 | U10: =U8/1000*2.9 -> 0.174 | V10: =V8/1000*2.9 -> 0.1044 | ... AS10: =AS8/1000*2.9 -> 0
C11: CO2-Abgabe [Fr./kWh Erdgas]4) | G11: =IF(G9="","",G9/1000*0.22) | J11: =IF(J9="","",J9/1000*0.22) -> 0.0264 | K11: =IF(K9="","",K9/1000*0.22) -> 0.0264 | L11: =IF(L9="","",L9/1000*0.22) -> 0.0264 | M11: =IF(M9="","",M9/1000*0.22) -> 0.0264 | N11: =IF(N9="","",N9/1000*0.22) -> 0.02376 | O11: =O8/1000*0.22 -> 0.02112 | P11: =P8/1000*0.22 -> 0.02112 | Q11: =Q8/1000*0.22 -> 0.02112 | R11: =R8/1000*0.22 -> 0.01848 | S11: =S8/1000*0.22 -> 0.01848 | T11: =T8/1000*0.22 -> 0.0132 | U11: =U8/1000*0.22 -> 0.0132 | V11: =V8/1000*0.22 -> 0.00792 | ... AS11: =AS8/1000*0.22 -> 0
C12: MwSt. [%]5) | D12: =(INDEX(F12:X12,MATCH(TRUE,INDEX(ISNUMBER(F12:X12),0),0))) -> 0.081 | I12: 0.081 | J12: 0.081 | K12: 0.081 | L12: 0.077 | M12: 0.077 | N12: 0.077 | O12: 0.077 | P12: 0.077 | Q12: 0.077 | R12: 0.08 | S12: 0.08 | T12: 0.08 | U12: 0.08 | V12: 0.08 | W12: 0.08 | X12: 0.08 | Y12: 0.076 | Z12: 0.076 | AA12: 0.076 | AB12: 0.076 | AC12: 0.076 | AD12: 0.076 | AE12: 0.076 | AF12: 0.076 | AG12: 0.076 | AH12: 0.076 | AI12: 0.075 | AJ12: 0.075 | AK12: 0.065 | AL12: 0.065 | AM12: 0.065 | AN12: 0.065 | AO12: 0 | AP12: 0 | AQ12: 0 | AR12: 0 | AS12: 0
C13: Teuerungsindex [%]6) | I13: 0.2 | J13: 0.002 | K13: 0.011 | L13: 0.021 | M13: 0.028 | N13: 0.006 | O13: -0.007 | P13: 0.004 | Q13: 0.009 | R13: 0.005 | S13: -0.004 | T13: -0.011 | U13: 0 | V13: -0.002 | W13: -0.007 | X13: 0.002 | Y13: 0.007 | Z13: -0.005 | AA13: 0.024 | AB13: 0.007 | AC13: 0.011 | AD13: 0.012 | AE13: 0.008 | AF13: 0.006 | AG13: 0.006 | AH13: 0.01 | AI13: 0.016 | AJ13: 0.008 | AK13: 0 | AL13: 0.005 | AM13: 0.008 | AN13: 0.018 | AO13: 0.009 | AP13: 0.033 | AQ13: 0.04 | AR13: 0.059 | AS13: 0.054
C14: Landesindex der Konsumentengüter (Sep 1966=100)6) | I14: 358.4 | J14: 356.8 | K14: 356.3 | L14: 352.5 | M14: 345.1 | N14: 335.6 | O14: 333.7 | P14: 336.1 | Q14: 334.9 | R14: 331.8 | S14: 330 | T14: 331.5 | U14: 335.3 | V14: 335.4 | W14: 336.1 | X14: 338.5 | Y14: 337.6 | Z14: 335.3 | AA14: 337 | AB14: 329 | AC14: 326.6 | AD14: 323.2 | AE14: 319.4 | AF14: 316.9 | AG14: 314.9 | AH14: 312.9 | AI14: 309.8 | AJ14: 305 | AK14: 302.6 | AL14: 302.5 | AM14: 301 | AN14: 298.6 | AO14: 293.3 | AP14: 290.8 | AQ14: 281.5 | AR14: 270.6 | AS14: 255.6
C15: Landesindex der Konsumentengüter (Mai 2000=100)6) | I15: 116.1 | J15: 115.5 | K15: 115.4 | L15: 114.2 | M15: 111.8 | N15: 108.7 | O15: 108.1 | P15: 108.9 | Q15: 108.5 | R15: 107.5 | S15: 106.9 | T15: 107.4 | U15: 108.6 | V15: 108.6 | W15: 108.8 | X15: 109.6 | Y15: 109.4 | Z15: 108.6 | AA15: 109.1 | AB15: 106.5 | AC15: 105.8 | AD15: 104.7 | AE15: 103.4 | AF15: 102.6 | AG15: 102 | AH15: 101.3 | AI15: 100.6
D17: Resultat für Berechnungsgrundlage | E17: Durchschnitt letzte vier Jahre
C18: Strompreis (C1)7) [Rp./kWh exkl. MwSt.]8) | E18: {=AVERAGE(INDEX(F18:X18,(MATCH(TRUE,INDEX(ISNUMBER(F18:X18),0),0))),INDEX(F18:X18,(MATCH(TRUE,INDEX(ISNUMBER(F18:X18),0),0)+1)),INDEX(F18:X18,(MATCH(TRUE,INDEX(ISNUMBER(F18:X18),0),0)+2)),INDEX(F18:X18,(MATCH(TRUE,INDEX(ISNUMBER(F18:X18),0),0)+3)))} -> 26.5175 | I18: 23.51 | J18: 28.46 | K18: 31.62 | L18: 22.48
B19: C1 | C19: Strompreis (C1)7) [Rp./kWh inkl. aktueller MwSt.] | D19: =E18+E18*$D$12 -> 28.665418
C20: Strompreis (C2)7) [Rp./kWh exkl. MwSt.]8) | E20: =AVERAGE(INDEX(F20:X20,(MATCH(TRUE,INDEX(ISNUMBER(F20:X20),0),0))),INDEX(F20:X20,(MATCH(TRUE,INDEX(ISNUMBER(F20:X20),0),0)+1)),INDEX(F20:X20,(MATCH(TRUE,INDEX(ISNUMBER(F20:X20),0),0)+2)),INDEX(F20:X20,(MATCH(TRUE,INDEX(ISNUMBER(F20:X20),0),0)+3))) -> 25.2925 | I20: 22.18 | J20: 27.17 | K20: 30.59 | L20: 21.23
B21: C2 | C21: Strompreis (C2)7) [Rp./kWh inkl. aktueller MwSt.] | D21: =E20+E20*$D$12 -> 27.341193
C22: Strompreis (C3)7) [Rp./kWh exkl. MwSt.]8) | E22: =AVERAGE(INDEX(F22:X22,(MATCH(TRUE,INDEX(ISNUMBER(F22:X22),0),0))),INDEX(F22:X22,(MATCH(TRUE,INDEX(ISNUMBER(F22:X22),0),0)+1)),INDEX(F22:X22,(MATCH(TRUE,INDEX(ISNUMBER(F22:X22),0),0)+2)),INDEX(F22:X22,(MATCH(TRUE,INDEX(ISNUMBER(F22:X22),0),0)+3))) -> 22.7125 | I22: 20.15 | J22: 25.47 | K22: 27.39 | L22: 17.84
B23: C3 | C23: Strompreis (C3)7) [Rp./kWh inkl. aktueller MwSt.] | D23: =E22+E22*$D$12 -> 24.552212
C24: Strompreis (C4)7) [Rp./kWh exkl. MwSt.]8) | E24: =AVERAGE(INDEX(F24:X24,(MATCH(TRUE,INDEX(ISNUMBER(F24:X24),0),0))),INDEX(F24:X24,(MATCH(TRUE,INDEX(ISNUMBER(F24:X24),0),0)+1)),INDEX(F24:X24,(MATCH(TRUE,INDEX(ISNUMBER(F24:X24),0),0)+2)),INDEX(F24:X24,(MATCH(TRUE,INDEX(ISNUMBER(F24:X24),0),0)+3))) -> 21.62 | I24: 19.34 | J24: 24.46 | K24: 26.35 | L24: 16.33
B25: C4 | C25: Strompreis (C4)7) [Rp./kWh inkl. aktueller MwSt.] | D25: =E24+E24*$D$12 -> 23.37122
C26: Strompreis (C5)7) [Rp./kWh exkl. MwSt.]8) | E26: =AVERAGE(INDEX(F26:X26,(MATCH(TRUE,INDEX(ISNUMBER(F26:X26),0),0))),INDEX(F26:X26,(MATCH(TRUE,INDEX(ISNUMBER(F26:X26),0),0)+1)),INDEX(F26:X26,(MATCH(TRUE,INDEX(ISNUMBER(F26:X26),0),0)+2)),INDEX(F26:X26,(MATCH(TRUE,INDEX(ISNUMBER(F26:X26),0),0)+3))) -> 19.7675 | I26: 17.67 | J26: 22.66 | K26: 24.28 | L26: 14.46
B27: C5 | C27: Strompreis (C5)7) [Rp./kWh inkl. aktueller MwSt.] | D27: =E26+E26*$D$12 -> 21.368667
C28: Strompreis (C6)7) [Rp./kWh exkl. MwSt.]8) | E28: =AVERAGE(INDEX(F28:X28,(MATCH(TRUE,INDEX(ISNUMBER(F28:X28),0),0))),INDEX(F28:X28,(MATCH(TRUE,INDEX(ISNUMBER(F28:X28),0),0)+1)),INDEX(F28:X28,(MATCH(TRUE,INDEX(ISNUMBER(F28:X28),0),0)+2)),INDEX(F28:X28,(MATCH(TRUE,INDEX(ISNUMBER(F28:X28),0),0)+3))) -> 19.275 | I28: 16.44 | J28: 21.76 | K28: 24.24 | L28: 14.66
B29: C6 | C29: Strompreis (C6)7) [Rp./kWh inkl. aktueller MwSt.] | D29: =E28+E28*$D$12 -> 20.836275
C30: Strompreis (C7)7) [Rp./kWh exkl. MwSt.]8) | E30: =AVERAGE(INDEX(F30:X30,(MATCH(TRUE,INDEX(ISNUMBER(F30:X30),0),0))),INDEX(F30:X30,(MATCH(TRUE,INDEX(ISNUMBER(F30:X30),0),0)+1)),INDEX(F30:X30,(MATCH(TRUE,INDEX(ISNUMBER(F30:X30),0),0)+2)),INDEX(F30:X30,(MATCH(TRUE,INDEX(ISNUMBER(F30:X30),0),0)+3))) -> 20.825 | I30: 21.89 | J30: 22.44 | K30: 27.41 | L30: 11.56
B31: C7 | C31: Strompreis (C7)7) [Rp./kWh inkl. aktueller MwSt.] | D31: =E30+E30*$D$12 -> 22.511825
C32: Strompreis (H1)7) [Rp./kWh exkl. MwSt.]8) | E32: =AVERAGE(INDEX(F32:X32,(MATCH(TRUE,INDEX(ISNUMBER(F32:X32),0),0))),INDEX(F32:X32,(MATCH(TRUE,INDEX(ISNUMBER(F32:X32),0),0)+1)),INDEX(F32:X32,(MATCH(TRUE,INDEX(ISNUMBER(F32:X32),0),0)+2)),INDEX(F32:X32,(MATCH(TRUE,INDEX(ISNUMBER(F32:X32),0),0)+3))) -> 34.0525 | I32: 33.31 | J32: 37.41 | K32: 37.4 | L32: 28.09
B33: H1 | C33: Strompreis (H1)7) [Rp./kWh inkl. aktueller MwSt.] | D33: =E32+E32*$D$12 -> 36.810752
C34: Strompreis (H2)7) [Rp./kWh exkl. MwSt.]8) | E34: =AVERAGE(INDEX(F34:X34,(MATCH(TRUE,INDEX(ISNUMBER(F34:X34),0),0))),INDEX(F34:X34,(MATCH(TRUE,INDEX(ISNUMBER(F34:X34),0),0)+1)),INDEX(F34:X34,(MATCH(TRUE,INDEX(ISNUMBER(F34:X34),0),0)+2)),INDEX(F34:X34,(MATCH(TRUE,INDEX(ISNUMBER(F34:X34),0),0)+3))) -> 30.375 | I34: 28.71 | J34: 33.26 | K34: 34.4 | L34: 25.13
B35: H2 | C35: Strompreis (H2)7) [Rp./kWh inkl. aktueller MwSt.] | D35: =E34+E34*$D$12 -> 32.835375
C36: Strompreis (H3)7) [Rp./kWh exkl. MwSt.]8) | E36: =AVERAGE(INDEX(F36:X36,(MATCH(TRUE,INDEX(ISNUMBER(F36:X36),0),0))),INDEX(F36:X36,(MATCH(TRUE,INDEX(ISNUMBER(F36:X36),0),0)+1)),INDEX(F36:X36,(MATCH(TRUE,INDEX(ISNUMBER(F36:X36),0),0)+2)),INDEX(F36:X36,(MATCH(TRUE,INDEX(ISNUMBER(F36:X36),0),0)+3))) -> 25.935 | I36: 24.53 | J36: 28.63 | K36: 29.79 | L36: 20.79
B37: H3 | C37: Strompreis (H3)7) [Rp./kWh inkl. aktueller MwSt.] | D37: =E36+E36*$D$12 -> 28.035735
C38: Strompreis (H4)7) [Rp./kWh exkl. MwSt.]8) | E38: =AVERAGE(INDEX(F38:X38,(MATCH(TRUE,INDEX(ISNUMBER(F38:X38),0),0))),INDEX(F38:X38,(MATCH(TRUE,INDEX(ISNUMBER(F38:X38),0),0)+1)),INDEX(F38:X38,(MATCH(TRUE,INDEX(ISNUMBER(F38:X38),0),0)+2)),INDEX(F38:X38,(MATCH(TRUE,INDEX(ISNUMBER(F38:X38),0),0)+3))) -> 29.4725 | I38: 25.07 | J38: 30.01 | K38: 32.15 | L38: 30.66
B39: H4 | C39: Strompreis (H4)7) [Rp./kWh inkl. aktueller MwSt.] | D39: =E38+E38*$D$12 -> 31.859772
C40: Strompreis (H5)7) [Rp./kWh exkl. MwSt.]8) | E40: =AVERAGE(INDEX(F40:X40,(MATCH(TRUE,INDEX(ISNUMBER(F40:X40),0),0))),INDEX(F40:X40,(MATCH(TRUE,INDEX(ISNUMBER(F40:X40),0),0)+1)),INDEX(F40:X40,(MATCH(TRUE,INDEX(ISNUMBER(F40:X40),0),0)+2)),INDEX(F40:X40,(MATCH(TRUE,INDEX(ISNUMBER(F40:X40),0),0)+3))) -> 26.565 | I40: 22.76 | J40: 27.15 | K40: 28.92 | L40: 27.43
B41: H5 | C41: Strompreis (H5)7) [Rp./kWh inkl. aktueller MwSt.] | D41: =E40+E40*$D$12 -> 28.716765
C42: Strompreis (H6)7) [Rp./kWh exkl. MwSt.]8) | E42: =AVERAGE(INDEX(F42:X42,(MATCH(TRUE,INDEX(ISNUMBER(F42:X42),0),0))),INDEX(F42:X42,(MATCH(TRUE,INDEX(ISNUMBER(F42:X42),0),0)+1)),INDEX(F42:X42,(MATCH(TRUE,INDEX(ISNUMBER(F42:X42),0),0)+2)),INDEX(F42:X42,(MATCH(TRUE,INDEX(ISNUMBER(F42:X42),0),0)+3))) -> 24.9925 | I42: 21.86 | J42: 25.76 | K42: 26.92 | L42: 25.43
B43: H6 | C43: Strompreis (H6)7) [Rp./kWh inkl. aktueller MwSt.] | D43: =E42+E42*$D$12 -> 27.016893
...

Sheet 3.1-4.1 Investitionskosten
C1: Ergebnisse für: | D1: =Heizleistungsbedarf -> 0 | E1: kW Heizleistungsbedarf | I1: Berechnungsgrundlagen - Stützwerte | O1: Berechnung der linearen Regression y= ax+b mit a:Steigung b:Achsenabschnitt
C2: Kostenformeln ausgewertet bei diesem Heizleistungsbedarf | O2: technisches | Q2: bauliches | S2: Honorare | U2: Erdsonde/…/Anschlussg.
A3: 3 | B3: Investitionskosten | C3: Leistung (range) [kW] | D3: 3.1 Technisches | E3: 3.1 Bauliches | F3: 3.2 Honorare | G3: 4.1 Erdsonde / Elektrozuleitung / Anschlussgebühren FW | I3: Leistung [kW] | J3: Technisches [CHF] | K3: Bauliches [CHF] | L3: Honorare [CHF] | M3: Erdsonde / Elektrozuleitung / Anschlussgebühren FW [CHF] | O3: a | P3: b | Q3: a | R3: b | S3: a | T3: b | U3: a | V3: b
B4: Fernwärme | C4: bis 7 | D4: =J4 -> 21780 | E4: =K4 -> 0 | F4: =L4 -> 7676 | G4: =M4 -> 26000 | I4: 7 | J4: 21780 | K4: 0 | L4: 7676 | M4: 26000
C5: ab 7 bis 28 | D5: =O5*Heizleistungsbedarf+P5 -> 18663.333 | E5: =Q5*Heizleistungsbedarf+R5 -> 0 | F5: =S5*Heizleistungsbedarf+T5 -> 6930.3333 | G5: =U5*Heizleistungsbedarf+V5 -> 24000 | I5: 28 | J5: 31130 | K5: 0 | L5: 9913 | M5: 32000 | O5: =SLOPE(J4:J5,I4:I5) -> 445.2381 | P5: =INTERCEPT(J4:J5,I4:I5) -> 18663.333 | Q5: =SLOPE(K4:K5,I4:I5) -> 0 | R5: =INTERCEPT(K4:K5,I4:I5) -> 0 | S5: =SLOPE(L4:L5,I4:I5) -> 106.52381 | T5: =INTERCEPT(L4:L5,I4:I5) -> 6930.3333 | U5: =SLOPE(M4:M5,I4:I5) -> 285.71429 | V5: =INTERCEPT(M4:M5,I4:I5) -> 24000
C6: ab 28 bis 68 | D6: =O6*Heizleistungsbedarf+P6 -> 22814 | E6: =Q6*Heizleistungsbedarf+R6 -> 0 | F6: =S6*Heizleistungsbedarf+T6 -> 8092.3 | G6: =U6*Heizleistungsbedarf+V6 -> 26750 | I6: 68 | J6: 43010 | K6: 0 | L6: 12514 | M6: 39500 | O6: =SLOPE(J5:J6,I5:I6) -> 297 | P6: =INTERCEPT(J5:J6,I5:I6) -> 22814 | Q6: =SLOPE(K5:K6,I5:I6) -> 0 | R6: =INTERCEPT(K5:K6,I5:I6) -> 0 | S6: =SLOPE(L5:L6,I5:I6) -> 65.025 | T6: =INTERCEPT(L5:L6,I5:I6) -> 8092.3 | U6: =SLOPE(M5:M6,I5:I6) -> 187.5 | V6: =INTERCEPT(M5:M6,I5:I6) -> 26750
C7: ab 68 bis 190 | D7: =O7*Heizleistungsbedarf+P7 -> 24371.311 | E7: =Q7*Heizleistungsbedarf+R7 -> 0 | F7: =S7*Heizleistungsbedarf+T7 -> 8886.0328 | G7: =U7*Heizleistungsbedarf+V7 -> 26624.59 | I7: 190 | J7: 76450 | K7: 0 | L7: 19023 | M7: 62600 | O7: =SLOPE(J6:J7,I6:I7) -> 274.09836 | P7: =INTERCEPT(J6:J7,I6:I7) -> 24371.311 | Q7: =SLOPE(K6:K7,I6:I7) -> 0 | R7: =INTERCEPT(K6:K7,I6:I7) -> 0 | S7: =SLOPE(L6:L7,I6:I7) -> 53.352459 | T7: =INTERCEPT(L6:L7,I6:I7) -> 8886.0328 | U7: =SLOPE(M6:M7,I6:I7) -> 189.34426 | V7: =INTERCEPT(M6:M7,I6:I7) -> 26624.59
C8: ab 190 | D8: =O8*Heizleistungsbedarf+P8 -> 32492.581 | E8: =Q8*Heizleistungsbedarf+R8 -> 0 | F8: =S8*Heizleistungsbedarf+T8 -> 11668.161 | G8: =U8*Heizleistungsbedarf+V8 -> 32016.129 | I8: 500 | J8: 148170 | K8: 0 | L8: 31023 | M8: 112500 | O8: =SLOPE(J7:J8,I7:I8) -> 231.35484 | P8: =INTERCEPT(J7:J8,I7:I8) -> 32492.581 | Q8: =SLOPE(K7:K8,I7:I8) -> 0 | R8: =INTERCEPT(K7:K8,I7:I8) -> 0 | S8: =SLOPE(L7:L8,I7:I8) -> 38.709677 | T8: =INTERCEPT(L7:L8,I7:I8) -> 11668.161 | U8: =SLOPE(M7:M8,I7:I8) -> 160.96774 | V8: =INTERCEPT(M7:M8,I7:I8) -> 32016.129
B9: Fernwärme | C9: bis 7 | D9: =J9 -> 7260 | E9: =K9 -> 0 | F9: =L9 -> 3531 | G9: =M9 -> 25000 | I9: 7 | J9: 7260 | K9: 0 | L9: 3531 | M9: 25000
C10: ab 7 bis 28 | D10: =O10*Heizleistungsbedarf+P10 -> 7003.3333 | E10: =Q10*Heizleistungsbedarf+R10 -> 0 | F10: =S10*Heizleistungsbedarf+T10 -> 3444.6667 | G10: =U10*Heizleistungsbedarf+V10 -> 23800 | I10: 28 | J10: 8030 | K10: 0 | L10: 3790 | M10: 28600 | O10: =SLOPE(J9:J10,I9:I10) -> 36.666667 | P10: =INTERCEPT(J9:J10,I9:I10) -> 7003.3333 | Q10: =SLOPE(K9:K10,I9:I10) -> 0 | R10: =INTERCEPT(K9:K10,I9:I10) -> 0 | S10: =SLOPE(L9:L10,I9:I10) -> 12.333333 | T10: =INTERCEPT(L9:L10,I9:I10) -> 3444.6667 | U10: =SLOPE(M9:M10,I9:I10) -> 171.42857 | V10: =INTERCEPT(M9:M10,I9:I10) -> 23800
C11: ab 28 bis 68 | D11: =O11*Heizleistungsbedarf+P11 -> 2563 | E11: =Q11*Heizleistungsbedarf+R11 -> 0 | F11: =S11*Heizleistungsbedarf+T11 -> 2159 | G11: =U11*Heizleistungsbedarf+V11 -> 23700 | I11: 68 | J11: 15840 | K11: 0 | L11: 6120 | M11: 35600 | O11: =SLOPE(J10:J11,I10:I11) -> 195.25 | P11: =INTERCEPT(J10:J11,I10:I11) -> 2563 | Q11: =SLOPE(K10:K11,I10:I11) -> 0 | R11: =INTERCEPT(K10:K11,I10:I11) -> 0 | S11: =SLOPE(L10:L11,I10:I11) -> 58.25 | T11: =INTERCEPT(L10:L11,I10:I11) -> 2159 | U11: =SLOPE(M10:M11,I10:I11) -> 175 | V11: =INTERCEPT(M10:M11,I10:I11) -> 23700
C12: ab 68 bis 190 | D12: =O12*Heizleistungsbedarf+P12 -> 3822.9508 | E12: =Q12*Heizleistungsbedarf+R12 -> 0 | F12: =S12*Heizleistungsbedarf+T12 -> 3225.541 | G12: =U12*Heizleistungsbedarf+V12 -> 23727.869 | I12: 190 | J12: 37400 | K12: 0 | L12: 11313 | M12: 56900 | O12: =SLOPE(J11:J12,I11:I12) -> 176.72131 | P12: =INTERCEPT(J11:J12,I11:I12) -> 3822.9508 | Q12: =SLOPE(K11:K12,I11:I12) -> 0 | R12: =INTERCEPT(K11:K12,I11:I12) -> 0 | S12: =SLOPE(L11:L12,I11:I12) -> 42.565574 | T12: =INTERCEPT(L11:L12,I11:I12) -> 3225.541 | U12: =SLOPE(M11:M12,I11:I12) -> 174.59016 | V12: =INTERCEPT(M11:M12,I11:I12) -> 23727.869
C13: ab 190 | D13: =O13*Heizleistungsbedarf+P13 -> 11982.903 | E13: =Q13*Heizleistungsbedarf+R13 -> 0 | F13: =S13*Heizleistungsbedarf+T13 -> 6317.8387 | G13: =U13*Heizleistungsbedarf+V13 -> 23803.226 | I13: 500 | J13: 78870 | K13: 0 | L13: 19463 | M13: 110900 | O13: =SLOPE(J12:J13,I12:I13) -> 133.77419 | P13: =INTERCEPT(J12:J13,I12:I13) -> 11982.903 | Q13: =SLOPE(K12:K13,I12:I13) -> 0 | R13: =INTERCEPT(K12:K13,I12:I13) -> 0 | S13: =SLOPE(L12:L13,I12:I13) -> 26.290323 | T13: =INTERCEPT(L12:L13,I12:I13) -> 6317.8387 | U13: =SLOPE(M12:M13,I12:I13) -> 174.19355 | V13: =INTERCEPT(M12:M13,I12:I13) -> 23803.226
B14: WP-Luft (a) | C14: bis 7 | D14: 28600 | E14: 2800 | F14: 14900 | G14: 0 | I14: 7 | J14: 28600 | K14: 2750 | L14: 14924 | M14: 0
C15: ab 7 bis 28 | D15: =O15*Heizleistungsbedarf+P15 -> 21560 | E15: =Q15*Heizleistungsbedarf+R15 -> 2603.3333 | F15: =S15*Heizleistungsbedarf+T15 -> 12485.333 | G15: =U15*Heizleistungsbedarf+V15 -> 0 | I15: 28 | J15: 49720 | K15: 3190 | L15: 22240 | M15: 0 | O15: =SLOPE(J14:J15,I14:I15) -> 1005.7143 | P15: =INTERCEPT(J14:J15,I14:I15) -> 21560 | Q15: =SLOPE(K14:K15,I14:I15) -> 20.952381 | R15: =INTERCEPT(K14:K15,I14:I15) -> 2603.3333 | S15: =SLOPE(L14:L15,I14:I15) -> 348.38095 | T15: =INTERCEPT(L14:L15,I14:I15) -> 12485.333 | U15: =SLOPE(M14:M15,I14:I15) -> 0 | V15: =INTERCEPT(M14:M15,I14:I15) -> 0
C16: ab 28 bis 68 | D16: =O16*Heizleistungsbedarf+P16 -> 5060 | E16: =Q16*Heizleistungsbedarf+R16 -> 1573 | F16: =S16*Heizleistungsbedarf+T16 -> 9299.8 | G16: =U16*Heizleistungsbedarf+V16 -> 0 | I16: 68 | J16: 113520 | K16: 5500 | L16: 40726 | M16: 0 | O16: =SLOPE(J15:J16,I15:I16) -> 1595 | P16: =INTERCEPT(J15:J16,I15:I16) -> 5060 | Q16: =SLOPE(K15:K16,I15:I16) -> 57.75 | R16: =INTERCEPT(K15:K16,I15:I16) -> 1573 | S16: =SLOPE(L15:L16,I15:I16) -> 462.15 | T16: =INTERCEPT(L15:L16,I15:I16) -> 9299.8 | U16: =SLOPE(M15:M16,I15:I16) -> 0 | V16: =INTERCEPT(M15:M16,I15:I16) -> 0
C17: ab 68 bis 190 | D17: =O17*Heizleistungsbedarf+P17 -> 10884.59 | E17: =Q17*Heizleistungsbedarf+R17 -> 5500 | F17: =S17*Heizleistungsbedarf+T17 -> 16651.213 | G17: =U17*Heizleistungsbedarf+V17 -> 0 | I17: 190 | J17: 297660 | K17: 5500 | L17: 83919 | M17: 0 | O17: =SLOPE(J16:J17,I16:I17) -> 1509.3443 | P17: =INTERCEPT(J16:J17,I16:I17) -> 10884.59 | Q17: =SLOPE(K16:K17,I16:I17) -> 0 | R17: =INTERCEPT(K16:K17,I16:I17) -> 5500 | S17: =SLOPE(L16:L17,I16:I17) -> 354.04098 | T17: =INTERCEPT(L16:L17,I16:I17) -> 16651.213 | U17: =SLOPE(M16:M17,I16:I17) -> 0 | V17: =INTERCEPT(M16:M17,I16:I17) -> 0
C18: ab 190 | D18: =D17 -> 10884.59 | E18: =E17 -> 5500 | F18: =F17 -> 16651.213 | G18: =G17 -> 0
B19: WP-Luft (i) | C19: bis 7 | D19: 35600 | E19: 9900 | F19: 17500 | G19: 0 | I19: 7 | J19: 35530 | K19: 9900 | L19: 17443 | M19: 0
C20: ab 7 bis 28 | D20: =O20*Heizleistungsbedarf+P20 -> 29920 | E20: =Q20*Heizleistungsbedarf+R20 -> 9643.3333 | F20: =S20*Heizleistungsbedarf+T20 -> 15560 | G20: =U20*Heizleistungsbedarf+V20 -> 0 | I20: 28 | J20: 52360 | K20: 10670 | L20: 23092 | M20: 0 | O20: =SLOPE(J19:J20,I19:I20) -> 801.42857 | P20: =INTERCEPT(J19:J20,I19:I20) -> 29920 | Q20: =SLOPE(K19:K20,I19:I20) -> 36.666667 | R20: =INTERCEPT(K19:K20,I19:I20) -> 9643.3333 | S20: =SLOPE(L19:L20,I19:I20) -> 269 | T20: =INTERCEPT(L19:L20,I19:I20) -> 15560 | U20: =SLOPE(M19:M20,I19:I20) -> 0 | V20: =INTERCEPT(M19:M20,I19:I20) -> 0
C21: ab 28 bis 68 | D21: =O21*Heizleistungsbedarf+P21 -> -1309 | E21: =Q21*Heizleistungsbedarf+R21 -> 6589 | F21: =S21*Heizleistungsbedarf+T21 -> 7908.3 | G21: =U21*Heizleistungsbedarf+V21 -> 0 | I21: 68 | J21: 129030 | K21: 16500 | L21: 44783 | M21: 0 | O21: =SLOPE(J20:J21,I20:I21) -> 1916.75 | P21: =INTERCEPT(J20:J21,I20:I21) -> -1309 | Q21: =SLOPE(K20:K21,I20:I21) -> 145.75 | R21: =INTERCEPT(K20:K21,I20:I21) -> 6589 | S21: =SLOPE(L20:L21,I20:I21) -> 542.275 | T21: =INTERCEPT(L20:L21,I20:I21) -> 7908.3 | U21: =SLOPE(M20:M21,I20:I21) -> 0 | V21: =INTERCEPT(M20:M21,I20:I21) -> 0
C22: ab 68 bis 190 | D22: =O22*Heizleistungsbedarf+P22 -> 20631.311 | E22: =Q22*Heizleistungsbedarf+R22 -> 18339.344 | F22: =S22*Heizleistungsbedarf+T22 -> 19908.377 | G22: =U22*Heizleistungsbedarf+V22 -> 0 | I22: 190 | J22: 323510 | K22: 13200 | L22: 89411 | M22: 0 | O22: =SLOPE(J21:J22,I21:I22) -> 1594.0984 | P22: =INTERCEPT(J21:J22,I21:I22) -> 20631.311 | Q22: =SLOPE(K21:K22,I21:I22) -> -27.04918 | R22: =INTERCEPT(K21:K22,I21:I22) -> 18339.344 | S22: =SLOPE(L21:L22,I21:I22) -> 365.80328 | T22: =INTERCEPT(L21:L22,I21:I22) -> 19908.377 | U22: =SLOPE(M21:M22,I21:I22) -> 0 | V22: =INTERCEPT(M21:M22,I21:I22) -> 0
C23: ab 190 | D23: =D22 -> 20631.311 | E23: =E22 -> 18339.344 | F23: =F22 -> 19908.377 | G23: =G22 -> 0 | I23: 500
B24: WP-Sonde | C24: bis 7 | D24: 29400 | E24: 1100 | F24: 18100 | G24: 14400 | I24: 7 | J24: 29400 | K24: 1100 | L24: 18100 | M24: 14400
C25: ab 7 bis 28 | D25: =O25*Heizleistungsbedarf+P25 -> 16466.667 | E25: =Q25*Heizleistungsbedarf+R25 -> 1100 | F25: =S25*Heizleistungsbedarf+T25 -> 11900 | G25: =U25*Heizleistungsbedarf+V25 -> 4433.3333 | I25: 28 | J25: 68200 | K25: 1100 | L25: 36700 | M25: 44300 | O25: =SLOPE(J24:J25,I24:I25) -> 1847.619 | P25: =INTERCEPT(J24:J25,I24:I25) -> 16466.667 | Q25: =SLOPE(K24:K25,I24:I25) -> 0 | R25: =INTERCEPT(K24:K25,I24:I25) -> 1100 | S25: =SLOPE(L24:L25,I24:I25) -> 885.71429 | T25: =INTERCEPT(L24:L25,I24:I25) -> 11900 | U25: =SLOPE(M24:M25,I24:I25) -> 1423.8095 | V25: =INTERCEPT(M24:M25,I24:I25) -> 4433.3333
C26: ab 28 bis 68 | D26: =O26*Heizleistungsbedarf+P26 -> 37610 | E26: =Q26*Heizleistungsbedarf+R26 -> 680 | F26: =S26*Heizleistungsbedarf+T26 -> 22070 | G26: =U26*Heizleistungsbedarf+V26 -> 9580 | I26: 68 | J26: 111900 | K26: 1700 | L26: 57600 | M26: 93900 | O26: =SLOPE(J25:J26,I25:I26) -> 1092.5 | P26: =INTERCEPT(J25:J26,I25:I26) -> 37610 | Q26: =SLOPE(K25:K26,I25:I26) -> 15 | R26: =INTERCEPT(K25:K26,I25:I26) -> 680 | S26: =SLOPE(L25:L26,I25:I26) -> 522.5 | T26: =INTERCEPT(L25:L26,I25:I26) -> 22070 | U26: =SLOPE(M25:M26,I25:I26) -> 1240 | V26: =INTERCEPT(M25:M26,I25:I26) -> 9580
C27: ab 68 bis 190 | D27: =O27*Heizleistungsbedarf+P27 -> 12240.984 | E27: =Q27*Heizleistungsbedarf+R27 -> 1421.3115 | F27: =S27*Heizleistungsbedarf+T27 -> 21872.131 | G27: =U27*Heizleistungsbedarf+V27 -> 4385.2459 | I27: 190 | J27: 290700 | K27: 2200 | L27: 121700 | M27: 254500 | O27: =SLOPE(J26:J27,I26:I27) -> 1465.5738 | P27: =INTERCEPT(J26:J27,I26:I27) -> 12240.984 | Q27: =SLOPE(K26:K27,I26:I27) -> 4.0983607 | R27: =INTERCEPT(K26:K27,I26:I27) -> 1421.3115 | S27: =SLOPE(L26:L27,I26:I27) -> 525.40984 | T27: =INTERCEPT(L26:L27,I26:I27) -> 21872.131 | U27: =SLOPE(M26:M27,I26:I27) -> 1316.3934 | V27: =INTERCEPT(M26:M27,I26:I27) -> 4385.2459
C28: ab 190 | D28: =O28*Heizleistungsbedarf+P28 -> 181909.68 | E28: =Q28*Heizleistungsbedarf+R28 -> 177.41935 | F28: =S28*Heizleistungsbedarf+T28 -> 67274.194 | G28: =U28*Heizleistungsbedarf+V28 -> 13629.032 | I28: 500 | J28: 468200 | K28: 5500 | L28: 210500 | M28: 647500 | O28: =SLOPE(J27:J28,I27:I28) -> 572.58065 | P28: =INTERCEPT(J27:J28,I27:I28) -> 181909.68 | Q28: =SLOPE(K27:K28,I27:I28) -> 10.645161 | R28: =INTERCEPT(K27:K28,I27:I28) -> 177.41935 | S28: =SLOPE(L27:L28,I27:I28) -> 286.45161 | T28: =INTERCEPT(L27:L28,I27:I28) -> 67274.194 | U28: =SLOPE(M27:M28,I27:I28) -> 1267.7419 | V28: =INTERCEPT(M27:M28,I27:I28) -> 13629.032
B29: WP-Wasser | C29: bis 7 | D29: K.A. | E29: K.A. | F29: K.A. | G29: 0 | I29: 7 | M29: 0
C30: ab 7 bis 28 | D30: K.A. | E30: K.A. | F30: K.A. | G30: 0 | I30: 28 | M30: 0
C31: ab 28 bis 68 | D31: K.A. | E31: K.A. | F31: K.A. | G31: 0 | I31: 68 | M31: 0
C32: ab 68 bis 190 | D32: K.A. | E32: K.A. | F32: K.A. | G32: 0 | I32: 190 | J32: 394570 | K32: 46200 | L32: 104068 | M32: 0
C33: ab 190 | D33: =O33*Heizleistungsbedarf+P33 -> 271125.16 | E33: =Q33*Heizleistungsbedarf+R33 -> 34064.516 | F33: =S33*Heizleistungsbedarf+T33 -> 80167.839 | G33: =U33*Heizleistungsbedarf+V33 -> 0 | I33: 500 | J33: 595980 | K33: 66000 | L33: 143063 | M33: 0 | O33: =SLOPE(J32:J33,I32:I33) -> 649.70968 | P33: =INTERCEPT(J32:J33,I32:I33) -> 271125.16 | Q33: =SLOPE(K32:K33,I32:I33) -> 63.870968 | R33: =INTERCEPT(K32:K33,I32:I33) -> 34064.516 | S33: =SLOPE(L32:L33,I32:I33) -> 125.79032 | T33: =INTERCEPT(L32:L33,I32:I33) -> 80167.839 | U33: =SLOPE(M32:M33,I32:I33) -> 0 | V33: =INTERCEPT(M32:M33,I32:I33) -> 0
B34: Holz-Pellets | C34: bis 7 | D34: =ROUND(J34,-2) -> 35200 | E34: =ROUND(K34,-2) -> 2200 | F34: =ROUND(L34,-2) -> 17300 | G34: =ROUND(M34,-2) -> 0 | I34: 7 | J34: 35200 | K34: 2200 | L34: 17326.313 | M34: 0
C35: ab 7 bis 28 | D35: =O35*Heizleistungsbedarf+P35 -> 25776.667 | E35: =Q35*Heizleistungsbedarf+R35 -> 2200 | F35: =S35*Heizleistungsbedarf+T35 -> 14246.75 | G35: =U35*Heizleistungsbedarf+V35 -> 0 | I35: 28 | J35: 63470 | K35: 2200 | L35: 26565 | M35: 0 | O35: =SLOPE(J34:J35,I34:I35) -> 1346.1905 | P35: =INTERCEPT(J34:J35,I34:I35) -> 25776.667 | Q35: =SLOPE(K34:K35,I34:I35) -> 0 | R35: =INTERCEPT(K34:K35,I34:I35) -> 2200 | S35: =SLOPE(L34:L35,I34:I35) -> 439.93749 | T35: =INTERCEPT(L34:L35,I34:I35) -> 14246.75 | U35: =SLOPE(M34:M35,I34:I35) -> 0 | V35: =INTERCEPT(M34:M35,I34:I35) -> 0
C36: ab 28 bis 68 | D36: =O36*Heizleistungsbedarf+P36 -> 34364 | E36: =Q36*Heizleistungsbedarf+R36 -> 1815 | F36: =S36*Heizleistungsbedarf+T36 -> 18241.3 | G36: =U36*Heizleistungsbedarf+V36 -> 0 | I36: 68 | J36: 105050 | K36: 2750 | L36: 38456 | M36: 0 | O36: =SLOPE(J35:J36,I35:I36) -> 1039.5 | P36: =INTERCEPT(J35:J36,I35:I36) -> 34364 | Q36: =SLOPE(K35:K36,I35:I36) -> 13.75 | R36: =INTERCEPT(K35:K36,I35:I36) -> 1815 | S36: =SLOPE(L35:L36,I35:I36) -> 297.275 | T36: =INTERCEPT(L35:L36,I35:I36) -> 18241.3 | U36: =SLOPE(M35:M36,I35:I36) -> 0 | V36: =INTERCEPT(M35:M36,I35:I36) -> 0
C37: ab 68 bis 190 | D37: =O37*Heizleistungsbedarf+P37 -> -10951.311 | E37: =Q37*Heizleistungsbedarf+R37 -> 1217.2131 | F37: =S37*Heizleistungsbedarf+T37 -> 11272.721 | G37: =U37*Heizleistungsbedarf+V37 -> 0 | I37: 190 | J37: 313170 | K37: 5500 | L37: 87226 | M37: 0 | O37: =SLOPE(J36:J37,I36:I37) -> 1705.9016 | P37: =INTERCEPT(J36:J37,I36:I37) -> -10951.311 | Q37: =SLOPE(K36:K37,I36:I37) -> 22.540984 | R37: =INTERCEPT(K36:K37,I36:I37) -> 1217.2131 | S37: =SLOPE(L36:L37,I36:I37) -> 399.7541 | T37: =INTERCEPT(L36:L37,I36:I37) -> 11272.721 | U37: =SLOPE(M36:M37,I36:I37) -> 0 | V37: =INTERCEPT(M36:M37,I36:I37) -> 0
C38: ab 190 | D38: =O38*Heizleistungsbedarf+P38 -> 142464.19 | E38: =Q38*Heizleistungsbedarf+R38 -> 4151.6129 | F38: =S38*Heizleistungsbedarf+T38 -> 53493.645 | G38: =U38*Heizleistungsbedarf+V38 -> 0 | I38: 500 | J38: 591690 | K38: 7700 | L38: 142263 | M38: 0 | O38: =SLOPE(J37:J38,I37:I38) -> 898.45161 | P38: =INTERCEPT(J37:J38,I37:I38) -> 142464.19 | Q38: =SLOPE(K37:K38,I37:I38) -> 7.0967742 | R38: =INTERCEPT(K37:K38,I37:I38) -> 4151.6129 | S38: =SLOPE(L37:L38,I37:I38) -> 177.53871 | T38: =INTERCEPT(L37:L38,I37:I38) -> 53493.645 | U38: =SLOPE(M37:M38,I37:I38) -> 0 | V38: =INTERCEPT(M37:M38,I37:I38) -> 0
B39: Holz-Schnitzel | C39: bis 7 | D39: K.A. | E39: K.A. | F39: K.A. | G39: 0 | I39: 7 | M39: 0
C40: ab 7 bis 28 | D40: K.A. | E40: K.A. | F40: K.A. | G40: 0 | I40: 28 | J40: 63470 | K40: 2200 | L40: 26565 | M40: 0
...

Sheet 3.5 Förderbeitrag (Kanton)
A1: 3.5 Voraussichtlicher Förderbeitrag (Kanton)
A3: Fernwärme | B3: bis 70 kWth [Fr.] | C3: bis 70 kWth [Fr. pro kWth] | D3: ab 70 kWth [Fr.] | E3: ab 70 kWth [Fr. pro kWth] | F3: ab 500 kWth [Fr.] | G3: ab 500 kWth [Fr. pro kWth]
B4: 4000 | C4: 20 | D4: 8000 | E4: 40 | F4: 18000 | G4: 20
A5: WP-Luft | B5: bis 20 kWth [Fr.] | C5: bis 20 kWth [Fr. pro kWth] | D5: ab 20 kWth [Fr.] | E5: ab 20 kWth [Fr. pro zusätzliches kWth] | F5: ab 70 kWth [Fr.] | G5: ab 70 kWth [Fr. pro kWth]
B6: 3000 | C6: 0 | D6: 3000 | E6: 60 | F6: 3200 | G6: 120
A7: WP-Sonde / WP-Wasser | B7: bis 30 kWth [Fr.] | C7: bis 30 kWth [Fr. pro kWth] | D7: ab 30 kWth [Fr.] | E7: ab 30 kWth [Fr. pro zusätzliches kWth] | F7: ab 70 kWth [Fr.] | G7: ab 70 kWth [Fr. pro kWth] | H7: ab 500 kWth [Fr.] | I7: ab 500 kWth [Fr. pro kWth]
B8: 8000 | C8: 0 | D8: 8000 | E8: 180 | F8: 4800 | G8: 360 | H8: 84800 | I8: 200
A9: Holz-Pellets / Holz-Schnitzel | B9: bis 30 kWth [Fr.] | C9: bis 30 kWth [Fr. pro kWth] | D9: ab 30 kWth [Fr.] | E9: ab 30 kWth [Fr. pro zusätzliches kWth] | F9: ab 70 kWth [Fr.] | G9: ab 70 kWth [Fr. pro kWth] | H9: ab 500 kWth [Fr.] | I9: ab 500 kWth [Fr. pro kWth]
B10: 6000 | C10: 0 | D10: 6000 | E10: 100 | F10: 0 | G10: 360 | H10: 80000 | I10: 200
